BEGIN:VCALENDAR
VERSION:2.0
PRODID:-//The First Presbyterian Church in the City of New York - ECPv6.15.20//NONSGML v1.0//EN
CALSCALE:GREGORIAN
METHOD:PUBLISH
X-WR-CALNAME:The First Presbyterian Church in the City of New York
X-ORIGINAL-URL:https://fpcnyc.org
X-WR-CALDESC:Events for The First Presbyterian Church in the City of New York
REFRESH-INTERVAL;VALUE=DURATION:PT1H
X-Robots-Tag:noindex
X-PUBLISHED-TTL:PT1H
BEGIN:VTIMEZONE
TZID:UTC
BEGIN:STANDARD
TZOFFSETFROM:+0000
TZOFFSETTO:+0000
TZNAME:UTC
DTSTART:20200101T000000
END:STANDARD
END:VTIMEZONE
BEGIN:VTIMEZONE
TZID:America/New_York
BEGIN:DAYLIGHT
TZOFFSETFROM:-0500
TZOFFSETTO:-0400
TZNAME:EDT
DTSTART:20200308T070000
END:DAYLIGHT
BEGIN:STANDARD
TZOFFSETFROM:-0400
TZOFFSETTO:-0500
TZNAME:EST
DTSTART:20201101T060000
END:STANDARD
BEGIN:DAYLIGHT
TZOFFSETFROM:-0500
TZOFFSETTO:-0400
TZNAME:EDT
DTSTART:20210314T070000
END:DAYLIGHT
BEGIN:STANDARD
TZOFFSETFROM:-0400
TZOFFSETTO:-0500
TZNAME:EST
DTSTART:20211107T060000
END:STANDARD
BEGIN:DAYLIGHT
TZOFFSETFROM:-0500
TZOFFSETTO:-0400
TZNAME:EDT
DTSTART:20220313T070000
END:DAYLIGHT
BEGIN:STANDARD
TZOFFSETFROM:-0400
TZOFFSETTO:-0500
TZNAME:EST
DTSTART:20221106T060000
END:STANDARD
END:VTIMEZONE
BEGIN:VEVENT
DTSTART;VALUE=DATE:20210906
DTEND;VALUE=DATE:20210907
DTSTAMP:20260419T163123
CREATED:20210708T224909Z
LAST-MODIFIED:20210708T224909Z
UID:12600-1630886400-1630972799@fpcnyc.org
SUMMARY:Labor Day
DESCRIPTION:
URL:https://fpcnyc.org/event/labor-day
CATEGORIES:General Event
ATTACH;FMTTYPE=image/jpeg:https://fpcnyc.org/wp-content/uploads/2020/11/bank-1688313_960_720.jpg
END:VEVENT
BEGIN:VEVENT
DTSTART;TZID=UTC:20210907T170000
DTEND;TZID=UTC:20210907T190000
DTSTAMP:20260419T163123
CREATED:20210708T223957Z
LAST-MODIFIED:20210708T223957Z
UID:12599-1631034000-1631041200@fpcnyc.org
SUMMARY:PRISM Welcome Barbecue for College Students
DESCRIPTION:
URL:https://fpcnyc.org/event/prism-welcome-barbecue-for-college-students
LOCATION:The First Presbyterian Church\, 12 West 12th Street\, New York\, NY\, 10011
CATEGORIES:Fellowship,Group
ATTACH;FMTTYPE=image/jpeg:https://fpcnyc.org/wp-content/uploads/2020/12/thumbnail-51.jpg
END:VEVENT
BEGIN:VEVENT
DTSTART;TZID=UTC:20210910T183000
DTEND;TZID=UTC:20210910T220000
DTSTAMP:20260419T163123
CREATED:20210828T194951Z
LAST-MODIFIED:20210828T194951Z
UID:12783-1631298600-1631311200@fpcnyc.org
SUMMARY:Movie Night - Princess Bride
DESCRIPTION:Join us as we screen The Princess Bride on our lawn! Bring your beverage of choice and we will supply the popcorn! \nHang out + Popcorn machine start at 6:30 p.m. Movie begins at 7:45 p.m.
URL:https://fpcnyc.org/event/movie-night-princess-bride
CATEGORIES:Connect,Fellowship
END:VEVENT
BEGIN:VEVENT
DTSTART;TZID=UTC:20210912T110000
DTEND;TZID=UTC:20210912T120000
DTSTAMP:20260419T163123
CREATED:20210828T195331Z
LAST-MODIFIED:20210828T195331Z
UID:12785-1631444400-1631448000@fpcnyc.org
SUMMARY:Homecoming Worship
DESCRIPTION:Join us for Homecoming Worship at 11 a.m. and then join us on the lawn to eat a delicious lunch together\, lawn games\, ice cream\, music\, and a ministry fair! \nWe hope you will join in this very special weekend in the life of First Church!
URL:https://fpcnyc.org/event/homecoming-worship
CATEGORIES:Worship
END:VEVENT
BEGIN:VEVENT
DTSTART;TZID=UTC:20210912T120000
DTEND;TZID=UTC:20210912T140000
DTSTAMP:20260419T163123
CREATED:20210828T195456Z
LAST-MODIFIED:20210828T195520Z
UID:12786-1631448000-1631455200@fpcnyc.org
SUMMARY:Homecoming Ministries Fair and Fellowship
DESCRIPTION:Join us for Homecoming Worship at 11 a.m. and then join us on the lawn to eat a delicious lunch together\, lawn games\, ice cream\, music\, and a ministry fair! \nWe hope you will join in this very special weekend in the life of First Church!
URL:https://fpcnyc.org/event/homecoming-ministries-fair-and-fellowship
CATEGORIES:Adult Learning,Children & Youth Learning,Community,Connect,Fellowship,General Event,Serve,Serve Programs
END:VEVENT
BEGIN:VEVENT
DTSTART;TZID=UTC:20210914T183000
DTEND;TZID=UTC:20210914T193000
DTSTAMP:20260419T163123
CREATED:20210909T235111Z
LAST-MODIFIED:20210909T235111Z
UID:12790-1631644200-1631647800@fpcnyc.org
SUMMARY:College Ministries Gathering
DESCRIPTION:
URL:https://fpcnyc.org/event/college-ministries-gathering/2021-09-14
CATEGORIES:Adult Learning
ATTACH;FMTTYPE=image/jpeg:https://fpcnyc.org/wp-content/uploads/2020/11/thumbnail-54.jpg
END:VEVENT
BEGIN:VEVENT
DTSTART;TZID=UTC:20210918T100000
DTEND;TZID=UTC:20210918T130000
DTSTAMP:20260419T163123
CREATED:20210721T212643Z
LAST-MODIFIED:20210721T212643Z
UID:12613-1631959200-1631970000@fpcnyc.org
SUMMARY:Inquirers/New Members Workshop
DESCRIPTION:
URL:https://fpcnyc.org/event/inquirers-new-members-workshop
CATEGORIES:Adult Learning
ATTACH;FMTTYPE=image/jpeg:https://fpcnyc.org/wp-content/uploads/2020/11/the-library.jpg
END:VEVENT
BEGIN:VEVENT
DTSTART;TZID=UTC:20210919T094500
DTEND;TZID=UTC:20210919T103000
DTSTAMP:20260419T163123
CREATED:20210910T002348Z
LAST-MODIFIED:20210910T002348Z
UID:12806-1632044700-1632047400@fpcnyc.org
SUMMARY:Church School
DESCRIPTION:
URL:https://fpcnyc.org/event/church-school-2/2021-09-19
CATEGORIES:Children & Youth Learning
ATTACH;FMTTYPE=image/jpeg:https://fpcnyc.org/wp-content/uploads/2020/11/thumbnail-29.jpg
END:VEVENT
BEGIN:VEVENT
DTSTART;TZID=America/New_York:20210919T120000
DTEND;TZID=America/New_York:20210919T123000
DTSTAMP:20260419T163123
CREATED:20210914T200129Z
LAST-MODIFIED:20220323T205544Z
UID:12912-1632052800-1632054600@fpcnyc.org
SUMMARY:Coffee & Fellowship
DESCRIPTION:|Recurring Event (See all)\n\n\n\nJoin us for coffee fellowship every Sunday directly following the worship service!  Join us as we meet one another\, say hello to some new faces\, and gather for a time of fellowship as we learn more about each other and how our week has been! \nFor the Zoom link\, visit our First Matters Weekly Newsletter or email Audrey Webber at awebber@fpcnyc.org for the link and any questions you might have! \nWe cannot wait to see you on the lawn after worship. \nOnline Coffee Fellowship – after worship \nJoin at this link Meeting ID: 894 6680 8515 Passcode: 761035 \n 
URL:https://fpcnyc.org/event/coffee-fellowship-3/2021-09-19
LOCATION:The First Presbyterian Church\, 12 West 12th Street\, New York\, NY\, 10011
CATEGORIES:Fellowship
END:VEVENT
BEGIN:VEVENT
DTSTART;TZID=UTC:20210919T123000
DTEND;TZID=UTC:20210919T133000
DTSTAMP:20260419T163123
CREATED:20210909T235803Z
LAST-MODIFIED:20210909T235803Z
UID:12803-1632054600-1632058200@fpcnyc.org
SUMMARY:Art Show Opening
DESCRIPTION:
URL:https://fpcnyc.org/event/art-show-opening
CATEGORIES:General Event
ATTACH;FMTTYPE=image/jpeg:https://fpcnyc.org/wp-content/uploads/2021/01/Julia-Brandao_Piece-005_001.jpg
END:VEVENT
BEGIN:VEVENT
DTSTART;TZID=UTC:20210919T160000
DTEND;TZID=UTC:20210919T170000
DTSTAMP:20260419T163123
CREATED:20210910T000217Z
LAST-MODIFIED:20210910T000217Z
UID:12804-1632067200-1632070800@fpcnyc.org
SUMMARY:Summer Reflections Reading
DESCRIPTION:
URL:https://fpcnyc.org/event/summer-reflections-reading
CATEGORIES:Adult Learning
ATTACH;FMTTYPE=image/jpeg:https://fpcnyc.org/wp-content/uploads/2020/12/thumbnail-52-1.jpg
END:VEVENT
BEGIN:VEVENT
DTSTART;TZID=UTC:20210920T173000
DTEND;TZID=UTC:20210920T181500
DTSTAMP:20260419T163123
CREATED:20210728T190406Z
LAST-MODIFIED:20210728T190406Z
UID:12634-1632159000-1632161700@fpcnyc.org
SUMMARY:Qigong
DESCRIPTION:
URL:https://fpcnyc.org/event/qigong
CATEGORIES:General Event,Group
ATTACH;FMTTYPE=image/jpeg:https://fpcnyc.org/wp-content/uploads/2020/11/thumbnail-qigong.jpg
END:VEVENT
BEGIN:VEVENT
DTSTART;TZID=UTC:20210922T140000
DTEND;TZID=UTC:20210922T170000
DTSTAMP:20260419T163123
CREATED:20210722T234649Z
LAST-MODIFIED:20210722T235848Z
UID:12627-1632319200-1632330000@fpcnyc.org
SUMMARY:Creatives Create!  The Fall Equinox
DESCRIPTION:
URL:https://fpcnyc.org/event/creatives-create-the-fall-equinox
CATEGORIES:General Event
ATTACH;FMTTYPE=image/jpeg:https://fpcnyc.org/wp-content/uploads/2021/01/Floor-Grootenhuis-2020_Cellfie.jpg
END:VEVENT
BEGIN:VEVENT
DTSTART;TZID=UTC:20210923T180000
DTEND;TZID=UTC:20210923T190000
DTSTAMP:20260419T163123
CREATED:20210914T194553Z
LAST-MODIFIED:20210914T194553Z
UID:12900-1632420000-1632423600@fpcnyc.org
SUMMARY:LGBTQ Bible Study
DESCRIPTION:
URL:https://fpcnyc.org/event/lgbtq-bible-study-4
LOCATION:The First Presbyterian Church\, 12 West 12th Street\, New York\, NY\, 10011
CATEGORIES:Adult Learning
ATTACH;FMTTYPE=image/jpeg:https://fpcnyc.org/wp-content/uploads/2020/11/thumbnail-personal-bible-study-at-schaffer-road-church-of-christ-marietta-ga.jpg
ORGANIZER;CN="Rev. Dr. Barbara E. Davis":MAILTO:bdavis@fpcnyc.org
END:VEVENT
BEGIN:VEVENT
DTSTART;TZID=UTC:20210925T100000
DTEND;TZID=UTC:20210925T160000
DTSTAMP:20260419T163123
CREATED:20210722T205635Z
LAST-MODIFIED:20210722T205635Z
UID:12619-1632564000-1632585600@fpcnyc.org
SUMMARY:Fall Yard Sale
DESCRIPTION:
URL:https://fpcnyc.org/event/fall-yard-sale
CATEGORIES:General Event
ATTACH;FMTTYPE=image/jpeg:https://fpcnyc.org/wp-content/uploads/2020/11/banner-header-about-us-1.jpg
END:VEVENT
BEGIN:VEVENT
DTSTART;TZID=UTC:20210927T173000
DTEND;TZID=UTC:20210927T181500
DTSTAMP:20260419T163123
CREATED:20210728T190406Z
LAST-MODIFIED:20211004T233221Z
UID:12636-1632763800-1632766500@fpcnyc.org
SUMMARY:Qigong at First
DESCRIPTION:Qigong is back this fall! Join us on Mondays at 5:30 – 6:15 p.m. This meditative practice is a way to enrich your spiritual life through silent prayer. Join us at this link Meeting ID: 860 3473 3956 Passcode: 833973   \nFor more information about this program visit our website here
URL:https://fpcnyc.org/event/qigong-2021-09-27/2021-09-27
CATEGORIES:General Event,Group
ATTACH;FMTTYPE=image/jpeg:https://fpcnyc.org/wp-content/uploads/2020/11/thumbnail-qigong.jpg
END:VEVENT
BEGIN:VEVENT
DTSTART;TZID=UTC:20210930T183000
DTEND;TZID=UTC:20210930T193000
DTSTAMP:20260419T163123
CREATED:20210930T005353Z
LAST-MODIFIED:20210930T005612Z
UID:12953-1633026600-1633030200@fpcnyc.org
SUMMARY:Our 2021 Summer Book Read!
DESCRIPTION:We hope you read our 2021 Summer Book Read: Braiding Sweetgrass! Join us for our virtual church wide discussion on September 30th at 6:30 p.m. for our discussion. \nJoin at this Zoom link Meeting ID: 898 7768 3611 Passcode: 125533 \nPlease RSVP to Rev. Dr. Barbara Davis at bdavis@fpcnyc.org.
URL:https://fpcnyc.org/event/our-2021-summer-book-read
LOCATION:The First Presbyterian Church\, 12 West 12th Street\, New York\, NY\, 10011
CATEGORIES:Adult Learning,General Event
ATTACH;FMTTYPE=image/jpeg:https://fpcnyc.org/wp-content/uploads/2020/12/thumbnail-52-1.jpg
END:VEVENT
END:VCALENDAR