BEGIN:VCALENDAR
VERSION:2.0
PRODID:-//The First Presbyterian Church in the City of New York - ECPv6.15.20//NONSGML v1.0//EN
CALSCALE:GREGORIAN
METHOD:PUBLISH
X-WR-CALNAME:The First Presbyterian Church in the City of New York
X-ORIGINAL-URL:https://fpcnyc.org
X-WR-CALDESC:Events for The First Presbyterian Church in the City of New York
REFRESH-INTERVAL;VALUE=DURATION:PT1H
X-Robots-Tag:noindex
X-PUBLISHED-TTL:PT1H
BEGIN:VTIMEZONE
TZID:UTC
BEGIN:STANDARD
TZOFFSETFROM:+0000
TZOFFSETTO:+0000
TZNAME:UTC
DTSTART:20200101T000000
END:STANDARD
END:VTIMEZONE
BEGIN:VEVENT
DTSTART;TZID=UTC:20210219T190000
DTEND;TZID=UTC:20210219T200000
DTSTAMP:20260425T144144
CREATED:20210219T013558Z
LAST-MODIFIED:20210219T013912Z
UID:12135-1613761200-1613764800@fpcnyc.org
SUMMARY:Current Events
DESCRIPTION:
URL:https://fpcnyc.org/event/current-events/2021-02-19
LOCATION:Zoom
CATEGORIES:Adult Learning,Connect,Fellowship
END:VEVENT
END:VCALENDAR