BEGIN:VCALENDAR
VERSION:2.0
PRODID:-//The First Presbyterian Church in the City of New York - ECPv6.15.20//NONSGML v1.0//EN
CALSCALE:GREGORIAN
METHOD:PUBLISH
X-ORIGINAL-URL:https://fpcnyc.org
X-WR-CALDESC:Events for The First Presbyterian Church in the City of New York
REFRESH-INTERVAL;VALUE=DURATION:PT1H
X-Robots-Tag:noindex
X-PUBLISHED-TTL:PT1H
BEGIN:VTIMEZONE
TZID:America/New_York
BEGIN:DAYLIGHT
TZOFFSETFROM:-0500
TZOFFSETTO:-0400
TZNAME:EDT
DTSTART:20210314T070000
END:DAYLIGHT
BEGIN:STANDARD
TZOFFSETFROM:-0400
TZOFFSETTO:-0500
TZNAME:EST
DTSTART:20211107T060000
END:STANDARD
BEGIN:DAYLIGHT
TZOFFSETFROM:-0500
TZOFFSETTO:-0400
TZNAME:EDT
DTSTART:20220313T070000
END:DAYLIGHT
BEGIN:STANDARD
TZOFFSETFROM:-0400
TZOFFSETTO:-0500
TZNAME:EST
DTSTART:20221106T060000
END:STANDARD
BEGIN:DAYLIGHT
TZOFFSETFROM:-0500
TZOFFSETTO:-0400
TZNAME:EDT
DTSTART:20230312T070000
END:DAYLIGHT
BEGIN:STANDARD
TZOFFSETFROM:-0400
TZOFFSETTO:-0500
TZNAME:EST
DTSTART:20231105T060000
END:STANDARD
END:VTIMEZONE
BEGIN:VEVENT
DTSTART;TZID=America/New_York:20220514T130000
DTEND;TZID=America/New_York:20220514T150000
DTSTAMP:20260421T022413
CREATED:20220510T184917Z
LAST-MODIFIED:20220512T173629Z
UID:16445-1652533200-1652540400@fpcnyc.org
SUMMARY:First Matters- Gardening
DESCRIPTION:Who’s Ready To Garden? We Are! – Join us on Saturday\, May 14 from 1-3 p.m. Come join your fellow Parishioners and help beautify the grounds at First Church. If you have them\, bring gloves and knee pads. Gardening equipment and a light snack provided.
URL:https://fpcnyc.org/event/first-matters-gardening/2022-05-14
CATEGORIES:Connect
END:VEVENT
END:VCALENDAR