BEGIN:VCALENDAR
VERSION:2.0
PRODID:-//The First Presbyterian Church in the City of New York - ECPv6.15.20//NONSGML v1.0//EN
CALSCALE:GREGORIAN
METHOD:PUBLISH
X-WR-CALNAME:The First Presbyterian Church in the City of New York
X-ORIGINAL-URL:https://fpcnyc.org
X-WR-CALDESC:Events for The First Presbyterian Church in the City of New York
REFRESH-INTERVAL;VALUE=DURATION:PT1H
X-Robots-Tag:noindex
X-PUBLISHED-TTL:PT1H
BEGIN:VTIMEZONE
TZID:UTC
BEGIN:STANDARD
TZOFFSETFROM:+0000
TZOFFSETTO:+0000
TZNAME:UTC
DTSTART:20200101T000000
END:STANDARD
END:VTIMEZONE
BEGIN:VEVENT
DTSTART;TZID=UTC:20210711T110000
DTEND;TZID=UTC:20210711T110000
DTSTAMP:20260420T124635
CREATED:20210706T234247Z
LAST-MODIFIED:20210721T213120Z
UID:12502-1626001200-1626001200@fpcnyc.org
SUMMARY:Weekly Worship
DESCRIPTION:Worship is at the heart of our life together. As a community of faith\, we gather every Sunday morning to engage with Scripture as it is read\, sung\, and proclaimed. We offer prayers\, sing our praises to God\, and prepare ourselves to be servants of Christ in the world beyond the church doors. \nOur traditional Reformed Presbyterian liturgy speaks of “gathering\, hearing the Word\, responding to the Word\, and sending.” At First Church\, we offer a gracious and inclusive liturgy\, meaningful and thought-provoking sermons that relate to issues and challenges in modern discipleship\, and music that evokes wonder and praise. Our worship style might be called “lively traditional.” \nWhen you worship with us\, you will be welcomed into our architecturally beautiful sanctuary where a sense of the Holy is present through stunning music\, excellent preaching and a diverse and engaged congregation. We celebrate the Sacrament of the Lord’s Supper the first Sunday of every month and on significant liturgical days in the Church calendar. We offer infant and adult Baptism each month as well. \nRecent Sermons \n  \nJoin our Live Stream online or join us in-person at 12 West 12th Street!\n Boxcast\n YouTube\n Facebook \n\n+ Google Calendar+ iCal Export\n\n\nDetails\n\nSeptember 19\n\n\n11:00 am\n\n\nEvent Category:\nWorship\n\n\n\nVenue\n\nThe First Presbyterian Church\n\n12 West 12th Street\nNew York\, NY 10011\n\n212.675.6150
URL:https://fpcnyc.org/event/weekly-worship-1100-am/2021-07-11
CATEGORIES:Worship
END:VEVENT
END:VCALENDAR