BEGIN:VCALENDAR
VERSION:2.0
PRODID:-//The First Presbyterian Church in the City of New York - ECPv6.15.20//NONSGML v1.0//EN
CALSCALE:GREGORIAN
METHOD:PUBLISH
X-ORIGINAL-URL:https://fpcnyc.org
X-WR-CALDESC:Events for The First Presbyterian Church in the City of New York
REFRESH-INTERVAL;VALUE=DURATION:PT1H
X-Robots-Tag:noindex
X-PUBLISHED-TTL:PT1H
BEGIN:VTIMEZONE
TZID:America/New_York
BEGIN:DAYLIGHT
TZOFFSETFROM:-0500
TZOFFSETTO:-0400
TZNAME:EDT
DTSTART:20260308T070000
END:DAYLIGHT
BEGIN:STANDARD
TZOFFSETFROM:-0400
TZOFFSETTO:-0500
TZNAME:EST
DTSTART:20261101T060000
END:STANDARD
BEGIN:DAYLIGHT
TZOFFSETFROM:-0500
TZOFFSETTO:-0400
TZNAME:EDT
DTSTART:20270314T070000
END:DAYLIGHT
BEGIN:STANDARD
TZOFFSETFROM:-0400
TZOFFSETTO:-0500
TZNAME:EST
DTSTART:20271107T060000
END:STANDARD
BEGIN:DAYLIGHT
TZOFFSETFROM:-0500
TZOFFSETTO:-0400
TZNAME:EDT
DTSTART:20280312T070000
END:DAYLIGHT
BEGIN:STANDARD
TZOFFSETFROM:-0400
TZOFFSETTO:-0500
TZNAME:EST
DTSTART:20281105T060000
END:STANDARD
END:VTIMEZONE
BEGIN:VEVENT
DTSTART;TZID=America/New_York:20270822T120000
DTEND;TZID=America/New_York:20270822T123000
DTSTAMP:20260422T090026
CREATED:20210914T200129Z
LAST-MODIFIED:20210914T200129Z
UID:24522-1818936000-1818937800@fpcnyc.org
SUMMARY:Coffee & Fellowship
DESCRIPTION:|Recurring Event (See all)\n\n\n\nJoin us for coffee fellowship every Sunday directly following the worship service!  Join us as we meet one another\, say hello to some new faces\, and gather for a time of fellowship as we learn more about each other and how our week has been! \nFor the Zoom link\, visit our First Matters Weekly Newsletter or email Audrey Webber at awebber@fpcnyc.org for the link and any questions you might have! \nWe cannot wait to see you on the lawn after worship. \nOnline Coffee Fellowship – after worship \nJoin at this link Meeting ID: 894 6680 8515 Passcode: 761035 \n 
URL:https://fpcnyc.org/event/coffee-fellowship-3/2027-08-22
LOCATION:The First Presbyterian Church\, 12 West 12th Street\, New York\, NY\, 10011
CATEGORIES:Fellowship
END:VEVENT
BEGIN:VEVENT
DTSTART;TZID=America/New_York:20270822T140000
DTEND;TZID=America/New_York:20270822T180000
DTSTAMP:20260422T090026
CREATED:20220329T174238Z
LAST-MODIFIED:20220329T174238Z
UID:24523-1818943200-1818957600@fpcnyc.org
SUMMARY:BEE Church
DESCRIPTION:
URL:https://fpcnyc.org/event/bee-church-2/2027-08-22
CATEGORIES:Connect
END:VEVENT
BEGIN:VEVENT
DTSTART;TZID=America/New_York:20270827T183000
DTEND;TZID=America/New_York:20270827T200000
DTSTAMP:20260422T090026
CREATED:20220317T221223Z
LAST-MODIFIED:20220317T221223Z
UID:24528-1819391400-1819396800@fpcnyc.org
SUMMARY:Save Her a Seat
DESCRIPTION:Save Her a Seat (SHAS) is a beginners meeting\, with the focus on people who identify as women with less than 5 years of sobriety. We are trans friendly. Each Friday is a different meeting format: \n1st Friday: Speaker\n2nd Friday: Step\n3rd Friday: Speaker\nLast Friday: Anniversary\n(With months with 5 Fridays\, the 4th Friday is a Speaker meeting)
URL:https://fpcnyc.org/event/save-her-a-seat/2027-08-27
CATEGORIES:Connect
END:VEVENT
BEGIN:VEVENT
DTSTART;TZID=America/New_York:20270829T120000
DTEND;TZID=America/New_York:20270829T123000
DTSTAMP:20260422T090026
CREATED:20210914T200129Z
LAST-MODIFIED:20210914T200129Z
UID:24530-1819540800-1819542600@fpcnyc.org
SUMMARY:Coffee & Fellowship
DESCRIPTION:|Recurring Event (See all)\n\n\n\nJoin us for coffee fellowship every Sunday directly following the worship service!  Join us as we meet one another\, say hello to some new faces\, and gather for a time of fellowship as we learn more about each other and how our week has been! \nFor the Zoom link\, visit our First Matters Weekly Newsletter or email Audrey Webber at awebber@fpcnyc.org for the link and any questions you might have! \nWe cannot wait to see you on the lawn after worship. \nOnline Coffee Fellowship – after worship \nJoin at this link Meeting ID: 894 6680 8515 Passcode: 761035 \n 
URL:https://fpcnyc.org/event/coffee-fellowship-3/2027-08-29
LOCATION:The First Presbyterian Church\, 12 West 12th Street\, New York\, NY\, 10011
CATEGORIES:Fellowship
END:VEVENT
BEGIN:VEVENT
DTSTART;TZID=America/New_York:20270829T140000
DTEND;TZID=America/New_York:20270829T180000
DTSTAMP:20260422T090026
CREATED:20220329T174238Z
LAST-MODIFIED:20220329T174238Z
UID:24531-1819548000-1819562400@fpcnyc.org
SUMMARY:BEE Church
DESCRIPTION:
URL:https://fpcnyc.org/event/bee-church-2/2027-08-29
CATEGORIES:Connect
END:VEVENT
BEGIN:VEVENT
DTSTART;TZID=America/New_York:20270903T183000
DTEND;TZID=America/New_York:20270903T200000
DTSTAMP:20260422T090026
CREATED:20220317T221223Z
LAST-MODIFIED:20220317T221223Z
UID:24536-1819996200-1820001600@fpcnyc.org
SUMMARY:Save Her a Seat
DESCRIPTION:Save Her a Seat (SHAS) is a beginners meeting\, with the focus on people who identify as women with less than 5 years of sobriety. We are trans friendly. Each Friday is a different meeting format: \n1st Friday: Speaker\n2nd Friday: Step\n3rd Friday: Speaker\nLast Friday: Anniversary\n(With months with 5 Fridays\, the 4th Friday is a Speaker meeting)
URL:https://fpcnyc.org/event/save-her-a-seat/2027-09-03
CATEGORIES:Connect
END:VEVENT
BEGIN:VEVENT
DTSTART;TZID=America/New_York:20270905T120000
DTEND;TZID=America/New_York:20270905T123000
DTSTAMP:20260422T090026
CREATED:20210914T200129Z
LAST-MODIFIED:20210914T200129Z
UID:24538-1820145600-1820147400@fpcnyc.org
SUMMARY:Coffee & Fellowship
DESCRIPTION:|Recurring Event (See all)\n\n\n\nJoin us for coffee fellowship every Sunday directly following the worship service!  Join us as we meet one another\, say hello to some new faces\, and gather for a time of fellowship as we learn more about each other and how our week has been! \nFor the Zoom link\, visit our First Matters Weekly Newsletter or email Audrey Webber at awebber@fpcnyc.org for the link and any questions you might have! \nWe cannot wait to see you on the lawn after worship. \nOnline Coffee Fellowship – after worship \nJoin at this link Meeting ID: 894 6680 8515 Passcode: 761035 \n 
URL:https://fpcnyc.org/event/coffee-fellowship-3/2027-09-05
LOCATION:The First Presbyterian Church\, 12 West 12th Street\, New York\, NY\, 10011
CATEGORIES:Fellowship
END:VEVENT
BEGIN:VEVENT
DTSTART;TZID=America/New_York:20270905T140000
DTEND;TZID=America/New_York:20270905T180000
DTSTAMP:20260422T090026
CREATED:20220329T174238Z
LAST-MODIFIED:20220329T174238Z
UID:24539-1820152800-1820167200@fpcnyc.org
SUMMARY:BEE Church
DESCRIPTION:
URL:https://fpcnyc.org/event/bee-church-2/2027-09-05
CATEGORIES:Connect
END:VEVENT
BEGIN:VEVENT
DTSTART;TZID=America/New_York:20270910T183000
DTEND;TZID=America/New_York:20270910T200000
DTSTAMP:20260422T090026
CREATED:20220317T221223Z
LAST-MODIFIED:20220317T221223Z
UID:24544-1820601000-1820606400@fpcnyc.org
SUMMARY:Save Her a Seat
DESCRIPTION:Save Her a Seat (SHAS) is a beginners meeting\, with the focus on people who identify as women with less than 5 years of sobriety. We are trans friendly. Each Friday is a different meeting format: \n1st Friday: Speaker\n2nd Friday: Step\n3rd Friday: Speaker\nLast Friday: Anniversary\n(With months with 5 Fridays\, the 4th Friday is a Speaker meeting)
URL:https://fpcnyc.org/event/save-her-a-seat/2027-09-10
CATEGORIES:Connect
END:VEVENT
BEGIN:VEVENT
DTSTART;TZID=America/New_York:20270912T120000
DTEND;TZID=America/New_York:20270912T123000
DTSTAMP:20260422T090026
CREATED:20210914T200129Z
LAST-MODIFIED:20210914T200129Z
UID:24546-1820750400-1820752200@fpcnyc.org
SUMMARY:Coffee & Fellowship
DESCRIPTION:|Recurring Event (See all)\n\n\n\nJoin us for coffee fellowship every Sunday directly following the worship service!  Join us as we meet one another\, say hello to some new faces\, and gather for a time of fellowship as we learn more about each other and how our week has been! \nFor the Zoom link\, visit our First Matters Weekly Newsletter or email Audrey Webber at awebber@fpcnyc.org for the link and any questions you might have! \nWe cannot wait to see you on the lawn after worship. \nOnline Coffee Fellowship – after worship \nJoin at this link Meeting ID: 894 6680 8515 Passcode: 761035 \n 
URL:https://fpcnyc.org/event/coffee-fellowship-3/2027-09-12
LOCATION:The First Presbyterian Church\, 12 West 12th Street\, New York\, NY\, 10011
CATEGORIES:Fellowship
END:VEVENT
BEGIN:VEVENT
DTSTART;TZID=America/New_York:20270912T140000
DTEND;TZID=America/New_York:20270912T180000
DTSTAMP:20260422T090026
CREATED:20220329T174238Z
LAST-MODIFIED:20220329T174238Z
UID:24547-1820757600-1820772000@fpcnyc.org
SUMMARY:BEE Church
DESCRIPTION:
URL:https://fpcnyc.org/event/bee-church-2/2027-09-12
CATEGORIES:Connect
END:VEVENT
BEGIN:VEVENT
DTSTART;TZID=America/New_York:20270917T183000
DTEND;TZID=America/New_York:20270917T200000
DTSTAMP:20260422T090026
CREATED:20220317T221223Z
LAST-MODIFIED:20220317T221223Z
UID:24552-1821205800-1821211200@fpcnyc.org
SUMMARY:Save Her a Seat
DESCRIPTION:Save Her a Seat (SHAS) is a beginners meeting\, with the focus on people who identify as women with less than 5 years of sobriety. We are trans friendly. Each Friday is a different meeting format: \n1st Friday: Speaker\n2nd Friday: Step\n3rd Friday: Speaker\nLast Friday: Anniversary\n(With months with 5 Fridays\, the 4th Friday is a Speaker meeting)
URL:https://fpcnyc.org/event/save-her-a-seat/2027-09-17
CATEGORIES:Connect
END:VEVENT
BEGIN:VEVENT
DTSTART;TZID=America/New_York:20270919T120000
DTEND;TZID=America/New_York:20270919T123000
DTSTAMP:20260422T090026
CREATED:20210914T200129Z
LAST-MODIFIED:20210914T200129Z
UID:24559-1821355200-1821357000@fpcnyc.org
SUMMARY:Coffee & Fellowship
DESCRIPTION:|Recurring Event (See all)\n\n\n\nJoin us for coffee fellowship every Sunday directly following the worship service!  Join us as we meet one another\, say hello to some new faces\, and gather for a time of fellowship as we learn more about each other and how our week has been! \nFor the Zoom link\, visit our First Matters Weekly Newsletter or email Audrey Webber at awebber@fpcnyc.org for the link and any questions you might have! \nWe cannot wait to see you on the lawn after worship. \nOnline Coffee Fellowship – after worship \nJoin at this link Meeting ID: 894 6680 8515 Passcode: 761035 \n 
URL:https://fpcnyc.org/event/coffee-fellowship-3/2027-09-19
LOCATION:The First Presbyterian Church\, 12 West 12th Street\, New York\, NY\, 10011
CATEGORIES:Fellowship
END:VEVENT
BEGIN:VEVENT
DTSTART;TZID=America/New_York:20270919T140000
DTEND;TZID=America/New_York:20270919T180000
DTSTAMP:20260422T090026
CREATED:20220329T174238Z
LAST-MODIFIED:20220329T174238Z
UID:24560-1821362400-1821376800@fpcnyc.org
SUMMARY:BEE Church
DESCRIPTION:
URL:https://fpcnyc.org/event/bee-church-2/2027-09-19
CATEGORIES:Connect
END:VEVENT
BEGIN:VEVENT
DTSTART;TZID=America/New_York:20270924T183000
DTEND;TZID=America/New_York:20270924T200000
DTSTAMP:20260422T090026
CREATED:20220317T221223Z
LAST-MODIFIED:20220317T221223Z
UID:24565-1821810600-1821816000@fpcnyc.org
SUMMARY:Save Her a Seat
DESCRIPTION:Save Her a Seat (SHAS) is a beginners meeting\, with the focus on people who identify as women with less than 5 years of sobriety. We are trans friendly. Each Friday is a different meeting format: \n1st Friday: Speaker\n2nd Friday: Step\n3rd Friday: Speaker\nLast Friday: Anniversary\n(With months with 5 Fridays\, the 4th Friday is a Speaker meeting)
URL:https://fpcnyc.org/event/save-her-a-seat/2027-09-24
CATEGORIES:Connect
END:VEVENT
BEGIN:VEVENT
DTSTART;TZID=America/New_York:20270926T120000
DTEND;TZID=America/New_York:20270926T123000
DTSTAMP:20260422T090026
CREATED:20210914T200129Z
LAST-MODIFIED:20210914T200129Z
UID:24567-1821960000-1821961800@fpcnyc.org
SUMMARY:Coffee & Fellowship
DESCRIPTION:|Recurring Event (See all)\n\n\n\nJoin us for coffee fellowship every Sunday directly following the worship service!  Join us as we meet one another\, say hello to some new faces\, and gather for a time of fellowship as we learn more about each other and how our week has been! \nFor the Zoom link\, visit our First Matters Weekly Newsletter or email Audrey Webber at awebber@fpcnyc.org for the link and any questions you might have! \nWe cannot wait to see you on the lawn after worship. \nOnline Coffee Fellowship – after worship \nJoin at this link Meeting ID: 894 6680 8515 Passcode: 761035 \n 
URL:https://fpcnyc.org/event/coffee-fellowship-3/2027-09-26
LOCATION:The First Presbyterian Church\, 12 West 12th Street\, New York\, NY\, 10011
CATEGORIES:Fellowship
END:VEVENT
BEGIN:VEVENT
DTSTART;TZID=America/New_York:20270926T140000
DTEND;TZID=America/New_York:20270926T180000
DTSTAMP:20260422T090026
CREATED:20220329T174238Z
LAST-MODIFIED:20220329T174238Z
UID:24568-1821967200-1821981600@fpcnyc.org
SUMMARY:BEE Church
DESCRIPTION:
URL:https://fpcnyc.org/event/bee-church-2/2027-09-26
CATEGORIES:Connect
END:VEVENT
BEGIN:VEVENT
DTSTART;TZID=America/New_York:20271001T183000
DTEND;TZID=America/New_York:20271001T200000
DTSTAMP:20260422T090026
CREATED:20220317T221223Z
LAST-MODIFIED:20220317T221223Z
UID:24579-1822415400-1822420800@fpcnyc.org
SUMMARY:Save Her a Seat
DESCRIPTION:Save Her a Seat (SHAS) is a beginners meeting\, with the focus on people who identify as women with less than 5 years of sobriety. We are trans friendly. Each Friday is a different meeting format: \n1st Friday: Speaker\n2nd Friday: Step\n3rd Friday: Speaker\nLast Friday: Anniversary\n(With months with 5 Fridays\, the 4th Friday is a Speaker meeting)
URL:https://fpcnyc.org/event/save-her-a-seat/2027-10-01
CATEGORIES:Connect
END:VEVENT
BEGIN:VEVENT
DTSTART;TZID=America/New_York:20271003T120000
DTEND;TZID=America/New_York:20271003T123000
DTSTAMP:20260422T090026
CREATED:20210914T200129Z
LAST-MODIFIED:20210914T200129Z
UID:24581-1822564800-1822566600@fpcnyc.org
SUMMARY:Coffee & Fellowship
DESCRIPTION:|Recurring Event (See all)\n\n\n\nJoin us for coffee fellowship every Sunday directly following the worship service!  Join us as we meet one another\, say hello to some new faces\, and gather for a time of fellowship as we learn more about each other and how our week has been! \nFor the Zoom link\, visit our First Matters Weekly Newsletter or email Audrey Webber at awebber@fpcnyc.org for the link and any questions you might have! \nWe cannot wait to see you on the lawn after worship. \nOnline Coffee Fellowship – after worship \nJoin at this link Meeting ID: 894 6680 8515 Passcode: 761035 \n 
URL:https://fpcnyc.org/event/coffee-fellowship-3/2027-10-03
LOCATION:The First Presbyterian Church\, 12 West 12th Street\, New York\, NY\, 10011
CATEGORIES:Fellowship
END:VEVENT
BEGIN:VEVENT
DTSTART;TZID=America/New_York:20271003T140000
DTEND;TZID=America/New_York:20271003T180000
DTSTAMP:20260422T090026
CREATED:20220329T174238Z
LAST-MODIFIED:20220329T174238Z
UID:24582-1822572000-1822586400@fpcnyc.org
SUMMARY:BEE Church
DESCRIPTION:
URL:https://fpcnyc.org/event/bee-church-2/2027-10-03
CATEGORIES:Connect
END:VEVENT
BEGIN:VEVENT
DTSTART;TZID=America/New_York:20271008T183000
DTEND;TZID=America/New_York:20271008T200000
DTSTAMP:20260422T090026
CREATED:20220317T221223Z
LAST-MODIFIED:20220317T221223Z
UID:24587-1823020200-1823025600@fpcnyc.org
SUMMARY:Save Her a Seat
DESCRIPTION:Save Her a Seat (SHAS) is a beginners meeting\, with the focus on people who identify as women with less than 5 years of sobriety. We are trans friendly. Each Friday is a different meeting format: \n1st Friday: Speaker\n2nd Friday: Step\n3rd Friday: Speaker\nLast Friday: Anniversary\n(With months with 5 Fridays\, the 4th Friday is a Speaker meeting)
URL:https://fpcnyc.org/event/save-her-a-seat/2027-10-08
CATEGORIES:Connect
END:VEVENT
BEGIN:VEVENT
DTSTART;TZID=America/New_York:20271010T120000
DTEND;TZID=America/New_York:20271010T123000
DTSTAMP:20260422T090026
CREATED:20210914T200129Z
LAST-MODIFIED:20210914T200129Z
UID:24589-1823169600-1823171400@fpcnyc.org
SUMMARY:Coffee & Fellowship
DESCRIPTION:|Recurring Event (See all)\n\n\n\nJoin us for coffee fellowship every Sunday directly following the worship service!  Join us as we meet one another\, say hello to some new faces\, and gather for a time of fellowship as we learn more about each other and how our week has been! \nFor the Zoom link\, visit our First Matters Weekly Newsletter or email Audrey Webber at awebber@fpcnyc.org for the link and any questions you might have! \nWe cannot wait to see you on the lawn after worship. \nOnline Coffee Fellowship – after worship \nJoin at this link Meeting ID: 894 6680 8515 Passcode: 761035 \n 
URL:https://fpcnyc.org/event/coffee-fellowship-3/2027-10-10
LOCATION:The First Presbyterian Church\, 12 West 12th Street\, New York\, NY\, 10011
CATEGORIES:Fellowship
END:VEVENT
BEGIN:VEVENT
DTSTART;TZID=America/New_York:20271010T140000
DTEND;TZID=America/New_York:20271010T180000
DTSTAMP:20260422T090026
CREATED:20220329T174238Z
LAST-MODIFIED:20220329T174238Z
UID:24590-1823176800-1823191200@fpcnyc.org
SUMMARY:BEE Church
DESCRIPTION:
URL:https://fpcnyc.org/event/bee-church-2/2027-10-10
CATEGORIES:Connect
END:VEVENT
BEGIN:VEVENT
DTSTART;TZID=America/New_York:20271015T183000
DTEND;TZID=America/New_York:20271015T200000
DTSTAMP:20260422T090026
CREATED:20220317T221223Z
LAST-MODIFIED:20220317T221223Z
UID:24596-1823625000-1823630400@fpcnyc.org
SUMMARY:Save Her a Seat
DESCRIPTION:Save Her a Seat (SHAS) is a beginners meeting\, with the focus on people who identify as women with less than 5 years of sobriety. We are trans friendly. Each Friday is a different meeting format: \n1st Friday: Speaker\n2nd Friday: Step\n3rd Friday: Speaker\nLast Friday: Anniversary\n(With months with 5 Fridays\, the 4th Friday is a Speaker meeting)
URL:https://fpcnyc.org/event/save-her-a-seat/2027-10-15
CATEGORIES:Connect
END:VEVENT
BEGIN:VEVENT
DTSTART;TZID=America/New_York:20271017T120000
DTEND;TZID=America/New_York:20271017T123000
DTSTAMP:20260422T090026
CREATED:20210914T200129Z
LAST-MODIFIED:20210914T200129Z
UID:24598-1823774400-1823776200@fpcnyc.org
SUMMARY:Coffee & Fellowship
DESCRIPTION:|Recurring Event (See all)\n\n\n\nJoin us for coffee fellowship every Sunday directly following the worship service!  Join us as we meet one another\, say hello to some new faces\, and gather for a time of fellowship as we learn more about each other and how our week has been! \nFor the Zoom link\, visit our First Matters Weekly Newsletter or email Audrey Webber at awebber@fpcnyc.org for the link and any questions you might have! \nWe cannot wait to see you on the lawn after worship. \nOnline Coffee Fellowship – after worship \nJoin at this link Meeting ID: 894 6680 8515 Passcode: 761035 \n 
URL:https://fpcnyc.org/event/coffee-fellowship-3/2027-10-17
LOCATION:The First Presbyterian Church\, 12 West 12th Street\, New York\, NY\, 10011
CATEGORIES:Fellowship
END:VEVENT
BEGIN:VEVENT
DTSTART;TZID=America/New_York:20271017T140000
DTEND;TZID=America/New_York:20271017T180000
DTSTAMP:20260422T090026
CREATED:20220329T174238Z
LAST-MODIFIED:20220329T174238Z
UID:24599-1823781600-1823796000@fpcnyc.org
SUMMARY:BEE Church
DESCRIPTION:
URL:https://fpcnyc.org/event/bee-church-2/2027-10-17
CATEGORIES:Connect
END:VEVENT
BEGIN:VEVENT
DTSTART;TZID=America/New_York:20271022T183000
DTEND;TZID=America/New_York:20271022T200000
DTSTAMP:20260422T090026
CREATED:20220317T221223Z
LAST-MODIFIED:20220317T221223Z
UID:24606-1824229800-1824235200@fpcnyc.org
SUMMARY:Save Her a Seat
DESCRIPTION:Save Her a Seat (SHAS) is a beginners meeting\, with the focus on people who identify as women with less than 5 years of sobriety. We are trans friendly. Each Friday is a different meeting format: \n1st Friday: Speaker\n2nd Friday: Step\n3rd Friday: Speaker\nLast Friday: Anniversary\n(With months with 5 Fridays\, the 4th Friday is a Speaker meeting)
URL:https://fpcnyc.org/event/save-her-a-seat/2027-10-22
CATEGORIES:Connect
END:VEVENT
BEGIN:VEVENT
DTSTART;TZID=America/New_York:20271024T120000
DTEND;TZID=America/New_York:20271024T123000
DTSTAMP:20260422T090026
CREATED:20210914T200129Z
LAST-MODIFIED:20210914T200129Z
UID:24608-1824379200-1824381000@fpcnyc.org
SUMMARY:Coffee & Fellowship
DESCRIPTION:|Recurring Event (See all)\n\n\n\nJoin us for coffee fellowship every Sunday directly following the worship service!  Join us as we meet one another\, say hello to some new faces\, and gather for a time of fellowship as we learn more about each other and how our week has been! \nFor the Zoom link\, visit our First Matters Weekly Newsletter or email Audrey Webber at awebber@fpcnyc.org for the link and any questions you might have! \nWe cannot wait to see you on the lawn after worship. \nOnline Coffee Fellowship – after worship \nJoin at this link Meeting ID: 894 6680 8515 Passcode: 761035 \n 
URL:https://fpcnyc.org/event/coffee-fellowship-3/2027-10-24
LOCATION:The First Presbyterian Church\, 12 West 12th Street\, New York\, NY\, 10011
CATEGORIES:Fellowship
END:VEVENT
BEGIN:VEVENT
DTSTART;TZID=America/New_York:20271024T140000
DTEND;TZID=America/New_York:20271024T180000
DTSTAMP:20260422T090026
CREATED:20220329T174238Z
LAST-MODIFIED:20220329T174238Z
UID:24609-1824386400-1824400800@fpcnyc.org
SUMMARY:BEE Church
DESCRIPTION:
URL:https://fpcnyc.org/event/bee-church-2/2027-10-24
CATEGORIES:Connect
END:VEVENT
BEGIN:VEVENT
DTSTART;TZID=America/New_York:20271029T183000
DTEND;TZID=America/New_York:20271029T200000
DTSTAMP:20260422T090026
CREATED:20220317T221223Z
LAST-MODIFIED:20220317T221223Z
UID:24617-1824834600-1824840000@fpcnyc.org
SUMMARY:Save Her a Seat
DESCRIPTION:Save Her a Seat (SHAS) is a beginners meeting\, with the focus on people who identify as women with less than 5 years of sobriety. We are trans friendly. Each Friday is a different meeting format: \n1st Friday: Speaker\n2nd Friday: Step\n3rd Friday: Speaker\nLast Friday: Anniversary\n(With months with 5 Fridays\, the 4th Friday is a Speaker meeting)
URL:https://fpcnyc.org/event/save-her-a-seat/2027-10-29
CATEGORIES:Connect
END:VEVENT
END:VCALENDAR