BEGIN:VCALENDAR
VERSION:2.0
PRODID:-//The First Presbyterian Church in the City of New York - ECPv6.15.20//NONSGML v1.0//EN
CALSCALE:GREGORIAN
METHOD:PUBLISH
X-WR-CALNAME:The First Presbyterian Church in the City of New York
X-ORIGINAL-URL:https://fpcnyc.org
X-WR-CALDESC:Events for The First Presbyterian Church in the City of New York
REFRESH-INTERVAL;VALUE=DURATION:PT1H
X-Robots-Tag:noindex
X-PUBLISHED-TTL:PT1H
BEGIN:VTIMEZONE
TZID:America/New_York
BEGIN:DAYLIGHT
TZOFFSETFROM:-0500
TZOFFSETTO:-0400
TZNAME:EDT
DTSTART:20240310T070000
END:DAYLIGHT
BEGIN:STANDARD
TZOFFSETFROM:-0400
TZOFFSETTO:-0500
TZNAME:EST
DTSTART:20241103T060000
END:STANDARD
BEGIN:DAYLIGHT
TZOFFSETFROM:-0500
TZOFFSETTO:-0400
TZNAME:EDT
DTSTART:20250309T070000
END:DAYLIGHT
BEGIN:STANDARD
TZOFFSETFROM:-0400
TZOFFSETTO:-0500
TZNAME:EST
DTSTART:20251102T060000
END:STANDARD
BEGIN:DAYLIGHT
TZOFFSETFROM:-0500
TZOFFSETTO:-0400
TZNAME:EDT
DTSTART:20260308T070000
END:DAYLIGHT
BEGIN:STANDARD
TZOFFSETFROM:-0400
TZOFFSETTO:-0500
TZNAME:EST
DTSTART:20261101T060000
END:STANDARD
END:VTIMEZONE
BEGIN:VEVENT
DTSTART;TZID=America/New_York:20251221T093000
DTEND;TZID=America/New_York:20251221T101500
DTSTAMP:20260422T102646
CREATED:20250729T180615Z
LAST-MODIFIED:20250729T180615Z
UID:23913-1766309400-1766312100@fpcnyc.org
SUMMARY:Worship Circle with Babies & Toddlers
DESCRIPTION:
URL:https://fpcnyc.org/event/worship-circle-with-babies-toddlers/2025-12-21
CATEGORIES:Children & Youth Learning,Connect
END:VEVENT
BEGIN:VEVENT
DTSTART;TZID=America/New_York:20251221T111500
DTEND;TZID=America/New_York:20251221T120000
DTSTAMP:20260422T102646
CREATED:20250729T181418Z
LAST-MODIFIED:20250730T171406Z
UID:24053-1766315700-1766318400@fpcnyc.org
SUMMARY:Church School
DESCRIPTION:
URL:https://fpcnyc.org/event/church-school-13/2025-12-21
CATEGORIES:Children & Youth Learning,Connect
END:VEVENT
BEGIN:VEVENT
DTSTART;TZID=America/New_York:20251221T120000
DTEND;TZID=America/New_York:20251221T123000
DTSTAMP:20260422T102646
CREATED:20210914T200129Z
LAST-MODIFIED:20210914T200129Z
UID:20808-1766318400-1766320200@fpcnyc.org
SUMMARY:Coffee & Fellowship
DESCRIPTION:|Recurring Event (See all)\n\n\n\nJoin us for coffee fellowship every Sunday directly following the worship service!  Join us as we meet one another\, say hello to some new faces\, and gather for a time of fellowship as we learn more about each other and how our week has been! \nFor the Zoom link\, visit our First Matters Weekly Newsletter or email Audrey Webber at awebber@fpcnyc.org for the link and any questions you might have! \nWe cannot wait to see you on the lawn after worship. \nOnline Coffee Fellowship – after worship \nJoin at this link Meeting ID: 894 6680 8515 Passcode: 761035 \n 
URL:https://fpcnyc.org/event/coffee-fellowship-3/2025-12-21
LOCATION:The First Presbyterian Church\, 12 West 12th Street\, New York\, NY\, 10011
CATEGORIES:Fellowship
END:VEVENT
BEGIN:VEVENT
DTSTART;TZID=America/New_York:20251221T122000
DTEND;TZID=America/New_York:20251221T130000
DTSTAMP:20260422T102646
CREATED:20250729T182315Z
LAST-MODIFIED:20250807T143017Z
UID:24114-1766319600-1766322000@fpcnyc.org
SUMMARY:Student Choristers
DESCRIPTION:
URL:https://fpcnyc.org/event/student-choristers-3/2025-12-21
CATEGORIES:Children & Youth Learning,Music
END:VEVENT
BEGIN:VEVENT
DTSTART;TZID=America/New_York:20251221T140000
DTEND;TZID=America/New_York:20251221T180000
DTSTAMP:20260422T102646
CREATED:20220329T174238Z
LAST-MODIFIED:20231228T183102Z
UID:20809-1766325600-1766340000@fpcnyc.org
SUMMARY:BEE Church
DESCRIPTION:
URL:https://fpcnyc.org/event/bee-church-2/2025-12-21
CATEGORIES:Connect
END:VEVENT
BEGIN:VEVENT
DTSTART;TZID=America/New_York:20251222T190000
DTEND;TZID=America/New_York:20251222T200000
DTSTAMP:20260422T102646
CREATED:20250729T154433Z
LAST-MODIFIED:20250729T154433Z
UID:23391-1766430000-1766433600@fpcnyc.org
SUMMARY:Current Events (virtual)
DESCRIPTION:
URL:https://fpcnyc.org/event/current-events-virtual-13/2025-12-22
CATEGORIES:Connect
END:VEVENT
BEGIN:VEVENT
DTSTART;TZID=America/New_York:20251226T183000
DTEND;TZID=America/New_York:20251226T200000
DTSTAMP:20260422T102646
CREATED:20220317T221223Z
LAST-MODIFIED:20250612T160623Z
UID:20816-1766773800-1766779200@fpcnyc.org
SUMMARY:Save Her a Seat
DESCRIPTION:Save Her a Seat (SHAS) is a beginners meeting\, with the focus on people who identify as women with less than 5 years of sobriety. We are trans friendly. Each Friday is a different meeting format: \n1st Friday: Speaker\n2nd Friday: Step\n3rd Friday: Speaker\nLast Friday: Anniversary\n(With months with 5 Fridays\, the 4th Friday is a Speaker meeting)
URL:https://fpcnyc.org/event/save-her-a-seat/2025-12-26
CATEGORIES:Connect
END:VEVENT
END:VCALENDAR