BEGIN:VCALENDAR
VERSION:2.0
PRODID:-//The First Presbyterian Church in the City of New York - ECPv6.15.20//NONSGML v1.0//EN
CALSCALE:GREGORIAN
METHOD:PUBLISH
X-ORIGINAL-URL:https://fpcnyc.org
X-WR-CALDESC:Events for The First Presbyterian Church in the City of New York
REFRESH-INTERVAL;VALUE=DURATION:PT1H
X-Robots-Tag:noindex
X-PUBLISHED-TTL:PT1H
BEGIN:VTIMEZONE
TZID:America/New_York
BEGIN:DAYLIGHT
TZOFFSETFROM:-0500
TZOFFSETTO:-0400
TZNAME:EDT
DTSTART:20230312T070000
END:DAYLIGHT
BEGIN:STANDARD
TZOFFSETFROM:-0400
TZOFFSETTO:-0500
TZNAME:EST
DTSTART:20231105T060000
END:STANDARD
BEGIN:DAYLIGHT
TZOFFSETFROM:-0500
TZOFFSETTO:-0400
TZNAME:EDT
DTSTART:20240310T070000
END:DAYLIGHT
BEGIN:STANDARD
TZOFFSETFROM:-0400
TZOFFSETTO:-0500
TZNAME:EST
DTSTART:20241103T060000
END:STANDARD
BEGIN:DAYLIGHT
TZOFFSETFROM:-0500
TZOFFSETTO:-0400
TZNAME:EDT
DTSTART:20250309T070000
END:DAYLIGHT
BEGIN:STANDARD
TZOFFSETFROM:-0400
TZOFFSETTO:-0500
TZNAME:EST
DTSTART:20251102T060000
END:STANDARD
END:VTIMEZONE
BEGIN:VEVENT
DTSTART;TZID=America/New_York:20240908T090000
DTEND;TZID=America/New_York:20240908T103000
DTSTAMP:20260424T125556
CREATED:20240815T130509Z
LAST-MODIFIED:20240815T130509Z
UID:21814-1725786000-1725791400@fpcnyc.org
SUMMARY:Choir Rehearsal
DESCRIPTION:
URL:https://fpcnyc.org/event/choir-rehearsal-29
CATEGORIES:Music
END:VEVENT
BEGIN:VEVENT
DTSTART;TZID=America/New_York:20240908T121500
DTEND;TZID=America/New_York:20240908T131500
DTSTAMP:20260424T125556
CREATED:20240815T130802Z
LAST-MODIFIED:20240815T130802Z
UID:21816-1725797700-1725801300@fpcnyc.org
SUMMARY:Choir Rehearsal
DESCRIPTION:
URL:https://fpcnyc.org/event/choir-rehearsal-30/2024-09-08
CATEGORIES:Music
END:VEVENT
BEGIN:VEVENT
DTSTART;TZID=America/New_York:20240915T093000
DTEND;TZID=America/New_York:20240915T103000
DTSTAMP:20260424T125556
CREATED:20240815T135419Z
LAST-MODIFIED:20240815T135419Z
UID:21968-1726392600-1726396200@fpcnyc.org
SUMMARY:Choir Rehearsal
DESCRIPTION:
URL:https://fpcnyc.org/event/choir-rehearsal-31
CATEGORIES:Music
END:VEVENT
BEGIN:VEVENT
DTSTART;TZID=America/New_York:20240915T121500
DTEND;TZID=America/New_York:20240915T131500
DTSTAMP:20260424T125556
CREATED:20240815T130802Z
LAST-MODIFIED:20240815T130802Z
UID:21817-1726402500-1726406100@fpcnyc.org
SUMMARY:Choir Rehearsal
DESCRIPTION:
URL:https://fpcnyc.org/event/choir-rehearsal-30/2024-09-15
CATEGORIES:Music
END:VEVENT
BEGIN:VEVENT
DTSTART;TZID=America/New_York:20240922T122000
DTEND;TZID=America/New_York:20240922T130000
DTSTAMP:20260424T125556
CREATED:20240815T141927Z
LAST-MODIFIED:20240826T162130Z
UID:22018-1727007600-1727010000@fpcnyc.org
SUMMARY:Student Choristers
DESCRIPTION:
URL:https://fpcnyc.org/event/student-choristers/2024-09-22
CATEGORIES:Children & Youth Learning,Music
END:VEVENT
BEGIN:VEVENT
DTSTART;TZID=America/New_York:20240928T083000
DTEND;TZID=America/New_York:20240928T130000
DTSTAMP:20260424T125556
CREATED:20240815T142740Z
LAST-MODIFIED:20240815T142740Z
UID:22046-1727512200-1727528400@fpcnyc.org
SUMMARY:Choir Retreat
DESCRIPTION:
URL:https://fpcnyc.org/event/choir-retreat-3
CATEGORIES:Music
END:VEVENT
BEGIN:VEVENT
DTSTART;TZID=America/New_York:20240929T093000
DTEND;TZID=America/New_York:20240929T103000
DTSTAMP:20260424T125556
CREATED:20240815T143232Z
LAST-MODIFIED:20240826T151014Z
UID:22048-1727602200-1727605800@fpcnyc.org
SUMMARY:Choir Rehearsal
DESCRIPTION:
URL:https://fpcnyc.org/event/choir-rehearsal-32/2024-09-29
CATEGORIES:Music
END:VEVENT
BEGIN:VEVENT
DTSTART;TZID=America/New_York:20240929T121500
DTEND;TZID=America/New_York:20240929T131500
DTSTAMP:20260424T125556
CREATED:20240822T184922Z
LAST-MODIFIED:20240822T184922Z
UID:22160-1727612100-1727615700@fpcnyc.org
SUMMARY:Choir Rehearsal
DESCRIPTION:
URL:https://fpcnyc.org/event/choir-rehearsal-33/2024-09-29
CATEGORIES:Music
END:VEVENT
BEGIN:VEVENT
DTSTART;TZID=America/New_York:20240929T122000
DTEND;TZID=America/New_York:20240929T130000
DTSTAMP:20260424T125556
CREATED:20240815T141927Z
LAST-MODIFIED:20240826T162131Z
UID:22019-1727612400-1727614800@fpcnyc.org
SUMMARY:Student Choristers
DESCRIPTION:
URL:https://fpcnyc.org/event/student-choristers/2024-09-29
CATEGORIES:Children & Youth Learning,Music
END:VEVENT
END:VCALENDAR