BEGIN:VCALENDAR
VERSION:2.0
PRODID:-//The First Presbyterian Church in the City of New York - ECPv6.15.20//NONSGML v1.0//EN
CALSCALE:GREGORIAN
METHOD:PUBLISH
X-WR-CALNAME:The First Presbyterian Church in the City of New York
X-ORIGINAL-URL:https://fpcnyc.org
X-WR-CALDESC:Events for The First Presbyterian Church in the City of New York
REFRESH-INTERVAL;VALUE=DURATION:PT1H
X-Robots-Tag:noindex
X-PUBLISHED-TTL:PT1H
BEGIN:VTIMEZONE
TZID:America/New_York
BEGIN:DAYLIGHT
TZOFFSETFROM:-0500
TZOFFSETTO:-0400
TZNAME:EDT
DTSTART:20220313T070000
END:DAYLIGHT
BEGIN:STANDARD
TZOFFSETFROM:-0400
TZOFFSETTO:-0500
TZNAME:EST
DTSTART:20221106T060000
END:STANDARD
BEGIN:DAYLIGHT
TZOFFSETFROM:-0500
TZOFFSETTO:-0400
TZNAME:EDT
DTSTART:20230312T070000
END:DAYLIGHT
BEGIN:STANDARD
TZOFFSETFROM:-0400
TZOFFSETTO:-0500
TZNAME:EST
DTSTART:20231105T060000
END:STANDARD
BEGIN:DAYLIGHT
TZOFFSETFROM:-0500
TZOFFSETTO:-0400
TZNAME:EDT
DTSTART:20240310T070000
END:DAYLIGHT
BEGIN:STANDARD
TZOFFSETFROM:-0400
TZOFFSETTO:-0500
TZNAME:EST
DTSTART:20241103T060000
END:STANDARD
END:VTIMEZONE
BEGIN:VEVENT
DTSTART;TZID=America/New_York:20230507T110000
DTEND;TZID=America/New_York:20230507T120000
DTSTAMP:20260420T064640
CREATED:20220718T142636Z
LAST-MODIFIED:20220718T142636Z
UID:17201-1683457200-1683460800@fpcnyc.org
SUMMARY:Communion Sunday
DESCRIPTION:
URL:https://fpcnyc.org/event/communion-sunday-2
CATEGORIES:Worship
ORGANIZER;CN="Rev. Dr. Barbara E. Davis":MAILTO:bdavis@fpcnyc.org
END:VEVENT
BEGIN:VEVENT
DTSTART;TZID=America/New_York:20230507T110000
DTEND;TZID=America/New_York:20230507T120000
DTSTAMP:20260420T064640
CREATED:20230324T154912Z
LAST-MODIFIED:20230405T180025Z
UID:18692-1683457200-1683460800@fpcnyc.org
SUMMARY:Guest Preacher- Tom Long
DESCRIPTION:Join us in worship on May 7th when we welcome Dr. Thomas G. Long to the pulpit. Dr. Long is Professor Emeritus of Preaching at Candler School of Theology in Atlanta. He is a Presbyterian minister and sought out preacher and keynote speaker. His introductory book on preaching is recognized as one of the most influential works in the field in the last 25 years. A recipient of numerous awards\, Dr. Long was named by Baylor University as one of the twelve most effective preachers in the English speaking world. Tom will preach at First Church on May 7th and lead a sermon-talk discussion and presentation on his new book following worship.
URL:https://fpcnyc.org/event/guest-preacher-tom-long
CATEGORIES:Worship
END:VEVENT
END:VCALENDAR