BEGIN:VCALENDAR
VERSION:2.0
PRODID:-//The First Presbyterian Church in the City of New York - ECPv6.15.20//NONSGML v1.0//EN
CALSCALE:GREGORIAN
METHOD:PUBLISH
X-ORIGINAL-URL:https://fpcnyc.org
X-WR-CALDESC:Events for The First Presbyterian Church in the City of New York
REFRESH-INTERVAL;VALUE=DURATION:PT1H
X-Robots-Tag:noindex
X-PUBLISHED-TTL:PT1H
BEGIN:VTIMEZONE
TZID:America/New_York
BEGIN:DAYLIGHT
TZOFFSETFROM:-0500
TZOFFSETTO:-0400
TZNAME:EDT
DTSTART:20220313T070000
END:DAYLIGHT
BEGIN:STANDARD
TZOFFSETFROM:-0400
TZOFFSETTO:-0500
TZNAME:EST
DTSTART:20221106T060000
END:STANDARD
BEGIN:DAYLIGHT
TZOFFSETFROM:-0500
TZOFFSETTO:-0400
TZNAME:EDT
DTSTART:20230312T070000
END:DAYLIGHT
BEGIN:STANDARD
TZOFFSETFROM:-0400
TZOFFSETTO:-0500
TZNAME:EST
DTSTART:20231105T060000
END:STANDARD
BEGIN:DAYLIGHT
TZOFFSETFROM:-0500
TZOFFSETTO:-0400
TZNAME:EDT
DTSTART:20240310T070000
END:DAYLIGHT
BEGIN:STANDARD
TZOFFSETFROM:-0400
TZOFFSETTO:-0500
TZNAME:EST
DTSTART:20241103T060000
END:STANDARD
END:VTIMEZONE
BEGIN:VEVENT
DTSTART;TZID=America/New_York:20231203T160000
DTEND;TZID=America/New_York:20231203T171500
DTSTAMP:20260421T082127
CREATED:20230725T183135Z
LAST-MODIFIED:20240815T163836Z
UID:19973-1701619200-1701623700@fpcnyc.org
SUMMARY:Vespers Festival of Music
DESCRIPTION:Join us for our Vespers Festival of Music on December 3rd at 4 p.m. featuring “Hodie” by Ralph Vaughan Williams.\nChoirs and soloists join together for this vivid musical retelling of the Christmas story – accompanied by international concert organist David Briggs’ playing the world premiere of his organ transcription of Vaughan Williams’ original orchestral score! \nThis event is free to all\, but for best seating\, please arrive early! Join us at First Presbyterian Church in the City of New York at 12 W 12th St. for this special offering of music.\nIf you have any questions about accessibility\, please contact Aileen Caba at: acaba@fpcnyc.org \n  \nFeaturing: \nThe First Church Choir\nMichael Shake\, conductor \nNew York City Children’s Chorus Concert Choir\nMary Wannamaker Huff\, conductor \nHailey McAvoy\, soprano\nJesse Darden\, tenor\nNathaniel Sullivan\, baritone \nDavid Briggs\, organ
URL:https://fpcnyc.org/event/vespers-service
CATEGORIES:Music,Worship
ATTACH;FMTTYPE=image/png:https://fpcnyc.org/wp-content/uploads/2023/07/Hodie-fb-event-1.png
END:VEVENT
END:VCALENDAR