BEGIN:VCALENDAR
VERSION:2.0
PRODID:-//The First Presbyterian Church in the City of New York - ECPv6.15.20//NONSGML v1.0//EN
CALSCALE:GREGORIAN
METHOD:PUBLISH
X-WR-CALNAME:The First Presbyterian Church in the City of New York
X-ORIGINAL-URL:https://fpcnyc.org
X-WR-CALDESC:Events for The First Presbyterian Church in the City of New York
REFRESH-INTERVAL;VALUE=DURATION:PT1H
X-Robots-Tag:noindex
X-PUBLISHED-TTL:PT1H
BEGIN:VTIMEZONE
TZID:America/New_York
BEGIN:DAYLIGHT
TZOFFSETFROM:-0500
TZOFFSETTO:-0400
TZNAME:EDT
DTSTART:20250309T070000
END:DAYLIGHT
BEGIN:STANDARD
TZOFFSETFROM:-0400
TZOFFSETTO:-0500
TZNAME:EST
DTSTART:20251102T060000
END:STANDARD
BEGIN:DAYLIGHT
TZOFFSETFROM:-0500
TZOFFSETTO:-0400
TZNAME:EDT
DTSTART:20260308T070000
END:DAYLIGHT
BEGIN:STANDARD
TZOFFSETFROM:-0400
TZOFFSETTO:-0500
TZNAME:EST
DTSTART:20261101T060000
END:STANDARD
BEGIN:DAYLIGHT
TZOFFSETFROM:-0500
TZOFFSETTO:-0400
TZNAME:EDT
DTSTART:20270314T070000
END:DAYLIGHT
BEGIN:STANDARD
TZOFFSETFROM:-0400
TZOFFSETTO:-0500
TZNAME:EST
DTSTART:20271107T060000
END:STANDARD
END:VTIMEZONE
BEGIN:VEVENT
DTSTART;TZID=America/New_York:20260429T184500
DTEND;TZID=America/New_York:20260429T194500
DTSTAMP:20260419T135759
CREATED:20250729T154623Z
LAST-MODIFIED:20250729T154623Z
UID:23497-1777488300-1777491900@fpcnyc.org
SUMMARY:No Name
DESCRIPTION:
URL:https://fpcnyc.org/event/no-name-6/2026-04-29
CATEGORIES:Care
END:VEVENT
BEGIN:VEVENT
DTSTART;TZID=America/New_York:20260501T180000
DTEND;TZID=America/New_York:20260501T210000
DTSTAMP:20260419T135759
CREATED:20220420T173501Z
LAST-MODIFIED:20241114T154017Z
UID:21271-1777658400-1777669200@fpcnyc.org
SUMMARY:D. A. Group
DESCRIPTION:
URL:https://fpcnyc.org/event/d-a-group-3/2026-05-01
CATEGORIES:Care
END:VEVENT
BEGIN:VEVENT
DTSTART;TZID=America/New_York:20260501T183000
DTEND;TZID=America/New_York:20260501T200000
DTSTAMP:20260419T135759
CREATED:20220317T221223Z
LAST-MODIFIED:20250612T160633Z
UID:21272-1777660200-1777665600@fpcnyc.org
SUMMARY:Save Her a Seat
DESCRIPTION:Save Her a Seat (SHAS) is a beginners meeting\, with the focus on people who identify as women with less than 5 years of sobriety. We are trans friendly. Each Friday is a different meeting format: \n1st Friday: Speaker\n2nd Friday: Step\n3rd Friday: Speaker\nLast Friday: Anniversary\n(With months with 5 Fridays\, the 4th Friday is a Speaker meeting)
URL:https://fpcnyc.org/event/save-her-a-seat/2026-05-01
CATEGORIES:Connect
END:VEVENT
BEGIN:VEVENT
DTSTART;TZID=America/New_York:20260502T100000
DTEND;TZID=America/New_York:20260502T120000
DTSTAMP:20260419T135759
CREATED:20250729T172752Z
LAST-MODIFIED:20250729T172752Z
UID:23649-1777716000-1777723200@fpcnyc.org
SUMMARY:RIF Asylum Support
DESCRIPTION:
URL:https://fpcnyc.org/event/rif-asylum-support-9/2026-05-02
CATEGORIES:Connect
END:VEVENT
BEGIN:VEVENT
DTSTART;TZID=America/New_York:20260502T100000
DTEND;TZID=America/New_York:20260502T150000
DTSTAMP:20260419T135759
CREATED:20250729T155156Z
LAST-MODIFIED:20250729T155156Z
UID:23576-1777716000-1777734000@fpcnyc.org
SUMMARY:St. Joe's Soup Kitchen
DESCRIPTION:Serving Hours are from 1:00pm – 3:00pm
URL:https://fpcnyc.org/event/st-joes-soup-kitchen-7/2026-05-02
CATEGORIES:Care
END:VEVENT
BEGIN:VEVENT
DTSTART;TZID=America/New_York:20260503T093000
DTEND;TZID=America/New_York:20260503T103000
DTSTAMP:20260419T135759
CREATED:20250807T143225Z
LAST-MODIFIED:20250807T143225Z
UID:24442-1777800600-1777804200@fpcnyc.org
SUMMARY:Choir Rehearsal
DESCRIPTION:
URL:https://fpcnyc.org/event/choir-rehearsal-69/2026-05-03
CATEGORIES:Music
END:VEVENT
BEGIN:VEVENT
DTSTART;TZID=America/New_York:20260503T093000
DTEND;TZID=America/New_York:20260503T103000
DTSTAMP:20260419T135759
CREATED:20250807T151226Z
LAST-MODIFIED:20250807T151226Z
UID:24463-1777800600-1777804200@fpcnyc.org
SUMMARY:Worship Circle with Babies & Toddlers
DESCRIPTION:
URL:https://fpcnyc.org/event/worship-circle-with-babies-toddlers-2/2026-05-03
CATEGORIES:Children & Youth Learning,Connect
END:VEVENT
BEGIN:VEVENT
DTSTART;TZID=America/New_York:20260503T093000
DTEND;TZID=America/New_York:20260503T130000
DTSTAMP:20260419T135759
CREATED:20250729T180656Z
LAST-MODIFIED:20250729T180656Z
UID:23956-1777800600-1777813200@fpcnyc.org
SUMMARY:Child Care
DESCRIPTION:
URL:https://fpcnyc.org/event/child-care-5/2026-05-03
END:VEVENT
BEGIN:VEVENT
DTSTART;TZID=America/New_York:20260503T110000
DTEND;TZID=America/New_York:20260503T120000
DTSTAMP:20260419T135759
CREATED:20250729T173151Z
LAST-MODIFIED:20250729T173151Z
UID:23739-1777806000-1777809600@fpcnyc.org
SUMMARY:Worship Service
DESCRIPTION:
URL:https://fpcnyc.org/event/worship-service/2026-05-03
CATEGORIES:Worship
END:VEVENT
BEGIN:VEVENT
DTSTART;TZID=America/New_York:20260503T110000
DTEND;TZID=America/New_York:20260503T120000
DTSTAMP:20260419T135759
CREATED:20250729T180821Z
LAST-MODIFIED:20250729T180821Z
UID:24029-1777806000-1777809600@fpcnyc.org
SUMMARY:Communion
DESCRIPTION:
URL:https://fpcnyc.org/event/communion-16/2026-05-03
CATEGORIES:Worship
ORGANIZER;CN="Rev. Dr. Barbara E. Davis":MAILTO:bdavis@fpcnyc.org
END:VEVENT
BEGIN:VEVENT
DTSTART;TZID=America/New_York:20260503T111500
DTEND;TZID=America/New_York:20260503T120000
DTSTAMP:20260419T135759
CREATED:20250729T181418Z
LAST-MODIFIED:20250730T171414Z
UID:24072-1777806900-1777809600@fpcnyc.org
SUMMARY:Church School
DESCRIPTION:
URL:https://fpcnyc.org/event/church-school-13/2026-05-03
CATEGORIES:Children & Youth Learning,Connect
END:VEVENT
BEGIN:VEVENT
DTSTART;TZID=America/New_York:20260503T120000
DTEND;TZID=America/New_York:20260503T123000
DTSTAMP:20260419T135759
CREATED:20210914T200129Z
LAST-MODIFIED:20210914T200129Z
UID:21277-1777809600-1777811400@fpcnyc.org
SUMMARY:Coffee & Fellowship
DESCRIPTION:|Recurring Event (See all)\n\n\n\nJoin us for coffee fellowship every Sunday directly following the worship service!  Join us as we meet one another\, say hello to some new faces\, and gather for a time of fellowship as we learn more about each other and how our week has been! \nFor the Zoom link\, visit our First Matters Weekly Newsletter or email Audrey Webber at awebber@fpcnyc.org for the link and any questions you might have! \nWe cannot wait to see you on the lawn after worship. \nOnline Coffee Fellowship – after worship \nJoin at this link Meeting ID: 894 6680 8515 Passcode: 761035 \n 
URL:https://fpcnyc.org/event/coffee-fellowship-3/2026-05-03
LOCATION:The First Presbyterian Church\, 12 West 12th Street\, New York\, NY\, 10011
CATEGORIES:Fellowship
END:VEVENT
BEGIN:VEVENT
DTSTART;TZID=America/New_York:20260503T120000
DTEND;TZID=America/New_York:20260503T140000
DTSTAMP:20260419T135759
CREATED:20250807T143752Z
LAST-MODIFIED:20250807T143752Z
UID:24455-1777809600-1777816800@fpcnyc.org
SUMMARY:Opening Reception of "Creatives Create" Art Show
DESCRIPTION:
URL:https://fpcnyc.org/event/opening-reception-of-creatives-create-art-show
CATEGORIES:Connect
END:VEVENT
BEGIN:VEVENT
DTSTART;TZID=America/New_York:20260503T122000
DTEND;TZID=America/New_York:20260503T130000
DTSTAMP:20260419T135759
CREATED:20250729T182315Z
LAST-MODIFIED:20250807T143024Z
UID:24133-1777810800-1777813200@fpcnyc.org
SUMMARY:Student Choristers
DESCRIPTION:
URL:https://fpcnyc.org/event/student-choristers-3/2026-05-03
CATEGORIES:Children & Youth Learning,Music
END:VEVENT
BEGIN:VEVENT
DTSTART;TZID=America/New_York:20260503T123000
DTEND;TZID=America/New_York:20260503T133000
DTSTAMP:20260419T135759
CREATED:20250730T135205Z
LAST-MODIFIED:20250806T164132Z
UID:24174-1777811400-1777815000@fpcnyc.org
SUMMARY:Presbyterian Women
DESCRIPTION:
URL:https://fpcnyc.org/event/presbyterian-women-23/2026-05-03
CATEGORIES:Connect
END:VEVENT
BEGIN:VEVENT
DTSTART;TZID=America/New_York:20260503T140000
DTEND;TZID=America/New_York:20260503T180000
DTSTAMP:20260419T135759
CREATED:20220329T174238Z
LAST-MODIFIED:20220329T174238Z
UID:21278-1777816800-1777831200@fpcnyc.org
SUMMARY:BEE Church
DESCRIPTION:
URL:https://fpcnyc.org/event/bee-church-2/2026-05-03
CATEGORIES:Connect
END:VEVENT
BEGIN:VEVENT
DTSTART;TZID=America/New_York:20260503T160000
DTEND;TZID=America/New_York:20260503T180000
DTSTAMP:20260419T135759
CREATED:20250807T143841Z
LAST-MODIFIED:20250807T143841Z
UID:24456-1777824000-1777831200@fpcnyc.org
SUMMARY:Vespers Music Festival
DESCRIPTION:
URL:https://fpcnyc.org/event/vespers-music-festival-3
CATEGORIES:Music
END:VEVENT
BEGIN:VEVENT
DTSTART;TZID=America/New_York:20260504T173000
DTEND;TZID=America/New_York:20260504T181500
DTSTAMP:20260419T135759
CREATED:20250806T163016Z
LAST-MODIFIED:20260319T145345Z
UID:24416-1777915800-1777918500@fpcnyc.org
SUMMARY:Qigong (virtual)
DESCRIPTION:
URL:https://fpcnyc.org/event/qigong-virtual-6/2026-05-04
CATEGORIES:Connect
END:VEVENT
BEGIN:VEVENT
DTSTART;TZID=America/New_York:20260504T190000
DTEND;TZID=America/New_York:20260504T200000
DTSTAMP:20260419T135759
CREATED:20250729T154433Z
LAST-MODIFIED:20250729T154433Z
UID:23410-1777921200-1777924800@fpcnyc.org
SUMMARY:Current Events (virtual)
DESCRIPTION:
URL:https://fpcnyc.org/event/current-events-virtual-13/2026-05-04
CATEGORIES:Connect
END:VEVENT
BEGIN:VEVENT
DTSTART;TZID=America/New_York:20260505T173000
DTEND;TZID=America/New_York:20260505T200000
DTSTAMP:20260419T135759
CREATED:20250805T153719Z
LAST-MODIFIED:20250805T153719Z
UID:24353-1778002200-1778011200@fpcnyc.org
SUMMARY:Village Campus Ministry
DESCRIPTION:
URL:https://fpcnyc.org/event/village-campus-ministry-2/2026-05-05
CATEGORIES:Connect
END:VEVENT
BEGIN:VEVENT
DTSTART;TZID=America/New_York:20260505T184500
DTEND;TZID=America/New_York:20260505T194500
DTSTAMP:20260419T135759
CREATED:20250729T154623Z
LAST-MODIFIED:20250729T154623Z
UID:23498-1778006700-1778010300@fpcnyc.org
SUMMARY:No Name
DESCRIPTION:
URL:https://fpcnyc.org/event/no-name-6/2026-05-05
CATEGORIES:Care
END:VEVENT
BEGIN:VEVENT
DTSTART;TZID=America/New_York:20260505T191500
DTEND;TZID=America/New_York:20260505T213000
DTSTAMP:20260419T135759
CREATED:20220317T223232Z
LAST-MODIFIED:20220317T223232Z
UID:21280-1778008500-1778016600@fpcnyc.org
SUMMARY:Save Her A Seat
DESCRIPTION:
URL:https://fpcnyc.org/event/save-her-a-seat-2/2026-05-05
CATEGORIES:Care
END:VEVENT
BEGIN:VEVENT
DTSTART;TZID=America/New_York:20260505T200000
DTEND;TZID=America/New_York:20260505T210000
DTSTAMP:20260419T135759
CREATED:20250730T135323Z
LAST-MODIFIED:20250730T135323Z
UID:24183-1778011200-1778014800@fpcnyc.org
SUMMARY:Presbyterian Women (virtual)
DESCRIPTION:
URL:https://fpcnyc.org/event/presbyterian-women-virtual-3/2026-05-05
CATEGORIES:Connect
END:VEVENT
BEGIN:VEVENT
DTSTART;TZID=America/New_York:20260506T123000
DTEND;TZID=America/New_York:20260506T134500
DTSTAMP:20260419T135759
CREATED:20250807T143340Z
LAST-MODIFIED:20250807T143340Z
UID:24447-1778070600-1778075100@fpcnyc.org
SUMMARY:Bible Study (hybrid)
DESCRIPTION:
URL:https://fpcnyc.org/event/bible-study-hybrid-52/2026-05-06
CATEGORIES:Adult Learning,Connect
ORGANIZER;CN="Rev. Dr. Barbara E. Davis":MAILTO:bdavis@fpcnyc.org
END:VEVENT
BEGIN:VEVENT
DTSTART;TZID=America/New_York:20260506T173000
DTEND;TZID=America/New_York:20260506T183000
DTSTAMP:20260419T135759
CREATED:20250729T173801Z
LAST-MODIFIED:20251203T155158Z
UID:23860-1778088600-1778092200@fpcnyc.org
SUMMARY:Conversational Spanish (virtual)
DESCRIPTION:
URL:https://fpcnyc.org/event/conversational-spanish-virtual-5/2026-05-06
CATEGORIES:Connect
END:VEVENT
BEGIN:VEVENT
DTSTART;TZID=America/New_York:20260506T180000
DTEND;TZID=America/New_York:20260506T191500
DTSTAMP:20260419T135759
CREATED:20250731T170626Z
LAST-MODIFIED:20250731T170626Z
UID:24224-1778090400-1778094900@fpcnyc.org
SUMMARY:Art at First (virtual)
DESCRIPTION:
URL:https://fpcnyc.org/event/art-at-first-virtual/2026-05-06
CATEGORIES:Connect
END:VEVENT
BEGIN:VEVENT
DTSTART;TZID=America/New_York:20260506T184500
DTEND;TZID=America/New_York:20260506T194500
DTSTAMP:20260419T135759
CREATED:20250729T154623Z
LAST-MODIFIED:20250729T154623Z
UID:23499-1778093100-1778096700@fpcnyc.org
SUMMARY:No Name
DESCRIPTION:
URL:https://fpcnyc.org/event/no-name-6/2026-05-06
CATEGORIES:Care
END:VEVENT
BEGIN:VEVENT
DTSTART;TZID=America/New_York:20260507T090000
DTEND;TZID=America/New_York:20260507T113000
DTSTAMP:20260419T135759
CREATED:20250805T172047Z
LAST-MODIFIED:20250805T172047Z
UID:24359-1778144400-1778153400@fpcnyc.org
SUMMARY:NY Artist Circle
DESCRIPTION:
URL:https://fpcnyc.org/event/ny-artist-circle-17/2026-05-07
CATEGORIES:Connect
END:VEVENT
BEGIN:VEVENT
DTSTART;TZID=America/New_York:20260507T170000
DTEND;TZID=America/New_York:20260507T180000
DTSTAMP:20260419T135759
CREATED:20250729T154847Z
LAST-MODIFIED:20250729T154847Z
UID:23540-1778173200-1778176800@fpcnyc.org
SUMMARY:Elder Care Committee (Virtual)
DESCRIPTION:
URL:https://fpcnyc.org/event/elder-care-committee-virtual-11/2026-05-07
CATEGORIES:Connect
END:VEVENT
BEGIN:VEVENT
DTSTART;TZID=America/New_York:20260508T180000
DTEND;TZID=America/New_York:20260508T210000
DTSTAMP:20260419T135759
CREATED:20220420T173501Z
LAST-MODIFIED:20241114T154018Z
UID:21304-1778263200-1778274000@fpcnyc.org
SUMMARY:D. A. Group
DESCRIPTION:
URL:https://fpcnyc.org/event/d-a-group-3/2026-05-08
CATEGORIES:Care
END:VEVENT
END:VCALENDAR