BEGIN:VCALENDAR
VERSION:2.0
PRODID:-//The First Presbyterian Church in the City of New York - ECPv6.15.20//NONSGML v1.0//EN
CALSCALE:GREGORIAN
METHOD:PUBLISH
X-ORIGINAL-URL:https://fpcnyc.org
X-WR-CALDESC:Events for The First Presbyterian Church in the City of New York
REFRESH-INTERVAL;VALUE=DURATION:PT1H
X-Robots-Tag:noindex
X-PUBLISHED-TTL:PT1H
BEGIN:VTIMEZONE
TZID:America/New_York
BEGIN:DAYLIGHT
TZOFFSETFROM:-0500
TZOFFSETTO:-0400
TZNAME:EDT
DTSTART:20260308T070000
END:DAYLIGHT
BEGIN:STANDARD
TZOFFSETFROM:-0400
TZOFFSETTO:-0500
TZNAME:EST
DTSTART:20261101T060000
END:STANDARD
BEGIN:DAYLIGHT
TZOFFSETFROM:-0500
TZOFFSETTO:-0400
TZNAME:EDT
DTSTART:20270314T070000
END:DAYLIGHT
BEGIN:STANDARD
TZOFFSETFROM:-0400
TZOFFSETTO:-0500
TZNAME:EST
DTSTART:20271107T060000
END:STANDARD
BEGIN:DAYLIGHT
TZOFFSETFROM:-0500
TZOFFSETTO:-0400
TZNAME:EDT
DTSTART:20280312T070000
END:DAYLIGHT
BEGIN:STANDARD
TZOFFSETFROM:-0400
TZOFFSETTO:-0500
TZNAME:EST
DTSTART:20281105T060000
END:STANDARD
END:VTIMEZONE
BEGIN:VEVENT
DTSTART;TZID=America/New_York:20270625T180000
DTEND;TZID=America/New_York:20270625T210000
DTSTAMP:20260421T105056
CREATED:20220420T173501Z
LAST-MODIFIED:20220420T173501Z
UID:23340-1813946400-1813957200@fpcnyc.org
SUMMARY:D. A. Group
DESCRIPTION:
URL:https://fpcnyc.org/event/d-a-group-3/2027-06-25
CATEGORIES:Care
END:VEVENT
BEGIN:VEVENT
DTSTART;TZID=America/New_York:20270625T183000
DTEND;TZID=America/New_York:20270625T200000
DTSTAMP:20260421T105056
CREATED:20220317T221223Z
LAST-MODIFIED:20220317T221223Z
UID:23341-1813948200-1813953600@fpcnyc.org
SUMMARY:Save Her a Seat
DESCRIPTION:Save Her a Seat (SHAS) is a beginners meeting\, with the focus on people who identify as women with less than 5 years of sobriety. We are trans friendly. Each Friday is a different meeting format: \n1st Friday: Speaker\n2nd Friday: Step\n3rd Friday: Speaker\nLast Friday: Anniversary\n(With months with 5 Fridays\, the 4th Friday is a Speaker meeting)
URL:https://fpcnyc.org/event/save-her-a-seat/2027-06-25
CATEGORIES:Connect
END:VEVENT
BEGIN:VEVENT
DTSTART;TZID=America/New_York:20270626T100000
DTEND;TZID=America/New_York:20270626T150000
DTSTAMP:20260421T105056
CREATED:20250729T155156Z
LAST-MODIFIED:20250729T155156Z
UID:23636-1814004000-1814022000@fpcnyc.org
SUMMARY:St. Joe's Soup Kitchen
DESCRIPTION:Serving Hours are from 1:00pm – 3:00pm
URL:https://fpcnyc.org/event/st-joes-soup-kitchen-7/2027-06-26
CATEGORIES:Care
END:VEVENT
BEGIN:VEVENT
DTSTART;TZID=America/New_York:20270627T093000
DTEND;TZID=America/New_York:20270627T130000
DTSTAMP:20260421T105056
CREATED:20250729T180656Z
LAST-MODIFIED:20250729T180656Z
UID:24016-1814088600-1814101200@fpcnyc.org
SUMMARY:Child Care
DESCRIPTION:
URL:https://fpcnyc.org/event/child-care-5/2027-06-27
END:VEVENT
BEGIN:VEVENT
DTSTART;TZID=America/New_York:20270627T110000
DTEND;TZID=America/New_York:20270627T120000
DTSTAMP:20260421T105056
CREATED:20250729T173151Z
LAST-MODIFIED:20250729T173151Z
UID:23799-1814094000-1814097600@fpcnyc.org
SUMMARY:Worship Service
DESCRIPTION:
URL:https://fpcnyc.org/event/worship-service/2027-06-27
CATEGORIES:Worship
END:VEVENT
BEGIN:VEVENT
DTSTART;TZID=America/New_York:20270627T120000
DTEND;TZID=America/New_York:20270627T123000
DTSTAMP:20260421T105056
CREATED:20210914T200129Z
LAST-MODIFIED:20210914T200129Z
UID:23342-1814097600-1814099400@fpcnyc.org
SUMMARY:Coffee & Fellowship
DESCRIPTION:|Recurring Event (See all)\n\n\n\nJoin us for coffee fellowship every Sunday directly following the worship service!  Join us as we meet one another\, say hello to some new faces\, and gather for a time of fellowship as we learn more about each other and how our week has been! \nFor the Zoom link\, visit our First Matters Weekly Newsletter or email Audrey Webber at awebber@fpcnyc.org for the link and any questions you might have! \nWe cannot wait to see you on the lawn after worship. \nOnline Coffee Fellowship – after worship \nJoin at this link Meeting ID: 894 6680 8515 Passcode: 761035 \n 
URL:https://fpcnyc.org/event/coffee-fellowship-3/2027-06-27
LOCATION:The First Presbyterian Church\, 12 West 12th Street\, New York\, NY\, 10011
CATEGORIES:Fellowship
END:VEVENT
BEGIN:VEVENT
DTSTART;TZID=America/New_York:20270627T140000
DTEND;TZID=America/New_York:20270627T180000
DTSTAMP:20260421T105056
CREATED:20220329T174238Z
LAST-MODIFIED:20220329T174238Z
UID:23343-1814104800-1814119200@fpcnyc.org
SUMMARY:BEE Church
DESCRIPTION:
URL:https://fpcnyc.org/event/bee-church-2/2027-06-27
CATEGORIES:Connect
END:VEVENT
BEGIN:VEVENT
DTSTART;TZID=America/New_York:20270629T191500
DTEND;TZID=America/New_York:20270629T213000
DTSTAMP:20260421T105056
CREATED:20220317T223232Z
LAST-MODIFIED:20220317T223232Z
UID:23344-1814296500-1814304600@fpcnyc.org
SUMMARY:Save Her A Seat
DESCRIPTION:
URL:https://fpcnyc.org/event/save-her-a-seat-2/2027-06-29
CATEGORIES:Care
END:VEVENT
BEGIN:VEVENT
DTSTART;TZID=America/New_York:20270702T180000
DTEND;TZID=America/New_York:20270702T210000
DTSTAMP:20260421T105056
CREATED:20220420T173501Z
LAST-MODIFIED:20220420T173501Z
UID:23346-1814551200-1814562000@fpcnyc.org
SUMMARY:D. A. Group
DESCRIPTION:
URL:https://fpcnyc.org/event/d-a-group-3/2027-07-02
CATEGORIES:Care
END:VEVENT
BEGIN:VEVENT
DTSTART;TZID=America/New_York:20270702T183000
DTEND;TZID=America/New_York:20270702T200000
DTSTAMP:20260421T105056
CREATED:20220317T221223Z
LAST-MODIFIED:20220317T221223Z
UID:23347-1814553000-1814558400@fpcnyc.org
SUMMARY:Save Her a Seat
DESCRIPTION:Save Her a Seat (SHAS) is a beginners meeting\, with the focus on people who identify as women with less than 5 years of sobriety. We are trans friendly. Each Friday is a different meeting format: \n1st Friday: Speaker\n2nd Friday: Step\n3rd Friday: Speaker\nLast Friday: Anniversary\n(With months with 5 Fridays\, the 4th Friday is a Speaker meeting)
URL:https://fpcnyc.org/event/save-her-a-seat/2027-07-02
CATEGORIES:Connect
END:VEVENT
BEGIN:VEVENT
DTSTART;TZID=America/New_York:20270703T100000
DTEND;TZID=America/New_York:20270703T150000
DTSTAMP:20260421T105056
CREATED:20250729T155156Z
LAST-MODIFIED:20250729T155156Z
UID:23637-1814608800-1814626800@fpcnyc.org
SUMMARY:St. Joe's Soup Kitchen
DESCRIPTION:Serving Hours are from 1:00pm – 3:00pm
URL:https://fpcnyc.org/event/st-joes-soup-kitchen-7/2027-07-03
CATEGORIES:Care
END:VEVENT
BEGIN:VEVENT
DTSTART;TZID=America/New_York:20270704T093000
DTEND;TZID=America/New_York:20270704T130000
DTSTAMP:20260421T105056
CREATED:20250729T180656Z
LAST-MODIFIED:20250729T180656Z
UID:24017-1814693400-1814706000@fpcnyc.org
SUMMARY:Child Care
DESCRIPTION:
URL:https://fpcnyc.org/event/child-care-5/2027-07-04
END:VEVENT
BEGIN:VEVENT
DTSTART;TZID=America/New_York:20270704T110000
DTEND;TZID=America/New_York:20270704T120000
DTSTAMP:20260421T105056
CREATED:20250729T173151Z
LAST-MODIFIED:20250729T173151Z
UID:23800-1814698800-1814702400@fpcnyc.org
SUMMARY:Worship Service
DESCRIPTION:
URL:https://fpcnyc.org/event/worship-service/2027-07-04
CATEGORIES:Worship
END:VEVENT
BEGIN:VEVENT
DTSTART;TZID=America/New_York:20270704T120000
DTEND;TZID=America/New_York:20270704T123000
DTSTAMP:20260421T105056
CREATED:20210914T200129Z
LAST-MODIFIED:20210914T200129Z
UID:23349-1814702400-1814704200@fpcnyc.org
SUMMARY:Coffee & Fellowship
DESCRIPTION:|Recurring Event (See all)\n\n\n\nJoin us for coffee fellowship every Sunday directly following the worship service!  Join us as we meet one another\, say hello to some new faces\, and gather for a time of fellowship as we learn more about each other and how our week has been! \nFor the Zoom link\, visit our First Matters Weekly Newsletter or email Audrey Webber at awebber@fpcnyc.org for the link and any questions you might have! \nWe cannot wait to see you on the lawn after worship. \nOnline Coffee Fellowship – after worship \nJoin at this link Meeting ID: 894 6680 8515 Passcode: 761035 \n 
URL:https://fpcnyc.org/event/coffee-fellowship-3/2027-07-04
LOCATION:The First Presbyterian Church\, 12 West 12th Street\, New York\, NY\, 10011
CATEGORIES:Fellowship
END:VEVENT
BEGIN:VEVENT
DTSTART;TZID=America/New_York:20270704T140000
DTEND;TZID=America/New_York:20270704T180000
DTSTAMP:20260421T105056
CREATED:20220329T174238Z
LAST-MODIFIED:20220329T174238Z
UID:23350-1814709600-1814724000@fpcnyc.org
SUMMARY:BEE Church
DESCRIPTION:
URL:https://fpcnyc.org/event/bee-church-2/2027-07-04
CATEGORIES:Connect
END:VEVENT
BEGIN:VEVENT
DTSTART;TZID=America/New_York:20270706T191500
DTEND;TZID=America/New_York:20270706T213000
DTSTAMP:20260421T105056
CREATED:20220317T223232Z
LAST-MODIFIED:20220317T223232Z
UID:23351-1814901300-1814909400@fpcnyc.org
SUMMARY:Save Her A Seat
DESCRIPTION:
URL:https://fpcnyc.org/event/save-her-a-seat-2/2027-07-06
CATEGORIES:Care
END:VEVENT
BEGIN:VEVENT
DTSTART;TZID=America/New_York:20270709T180000
DTEND;TZID=America/New_York:20270709T210000
DTSTAMP:20260421T105056
CREATED:20220420T173501Z
LAST-MODIFIED:20220420T173501Z
UID:23354-1815156000-1815166800@fpcnyc.org
SUMMARY:D. A. Group
DESCRIPTION:
URL:https://fpcnyc.org/event/d-a-group-3/2027-07-09
CATEGORIES:Care
END:VEVENT
BEGIN:VEVENT
DTSTART;TZID=America/New_York:20270709T183000
DTEND;TZID=America/New_York:20270709T200000
DTSTAMP:20260421T105056
CREATED:20220317T221223Z
LAST-MODIFIED:20220317T221223Z
UID:23355-1815157800-1815163200@fpcnyc.org
SUMMARY:Save Her a Seat
DESCRIPTION:Save Her a Seat (SHAS) is a beginners meeting\, with the focus on people who identify as women with less than 5 years of sobriety. We are trans friendly. Each Friday is a different meeting format: \n1st Friday: Speaker\n2nd Friday: Step\n3rd Friday: Speaker\nLast Friday: Anniversary\n(With months with 5 Fridays\, the 4th Friday is a Speaker meeting)
URL:https://fpcnyc.org/event/save-her-a-seat/2027-07-09
CATEGORIES:Connect
END:VEVENT
BEGIN:VEVENT
DTSTART;TZID=America/New_York:20270710T100000
DTEND;TZID=America/New_York:20270710T150000
DTSTAMP:20260421T105056
CREATED:20250729T155156Z
LAST-MODIFIED:20250729T155156Z
UID:23638-1815213600-1815231600@fpcnyc.org
SUMMARY:St. Joe's Soup Kitchen
DESCRIPTION:Serving Hours are from 1:00pm – 3:00pm
URL:https://fpcnyc.org/event/st-joes-soup-kitchen-7/2027-07-10
CATEGORIES:Care
END:VEVENT
BEGIN:VEVENT
DTSTART;TZID=America/New_York:20270711T093000
DTEND;TZID=America/New_York:20270711T130000
DTSTAMP:20260421T105056
CREATED:20250729T180656Z
LAST-MODIFIED:20250729T180656Z
UID:24018-1815298200-1815310800@fpcnyc.org
SUMMARY:Child Care
DESCRIPTION:
URL:https://fpcnyc.org/event/child-care-5/2027-07-11
END:VEVENT
BEGIN:VEVENT
DTSTART;TZID=America/New_York:20270711T110000
DTEND;TZID=America/New_York:20270711T120000
DTSTAMP:20260421T105056
CREATED:20250729T173151Z
LAST-MODIFIED:20250729T173151Z
UID:23801-1815303600-1815307200@fpcnyc.org
SUMMARY:Worship Service
DESCRIPTION:
URL:https://fpcnyc.org/event/worship-service/2027-07-11
CATEGORIES:Worship
END:VEVENT
BEGIN:VEVENT
DTSTART;TZID=America/New_York:20270711T120000
DTEND;TZID=America/New_York:20270711T123000
DTSTAMP:20260421T105056
CREATED:20210914T200129Z
LAST-MODIFIED:20210914T200129Z
UID:23356-1815307200-1815309000@fpcnyc.org
SUMMARY:Coffee & Fellowship
DESCRIPTION:|Recurring Event (See all)\n\n\n\nJoin us for coffee fellowship every Sunday directly following the worship service!  Join us as we meet one another\, say hello to some new faces\, and gather for a time of fellowship as we learn more about each other and how our week has been! \nFor the Zoom link\, visit our First Matters Weekly Newsletter or email Audrey Webber at awebber@fpcnyc.org for the link and any questions you might have! \nWe cannot wait to see you on the lawn after worship. \nOnline Coffee Fellowship – after worship \nJoin at this link Meeting ID: 894 6680 8515 Passcode: 761035 \n 
URL:https://fpcnyc.org/event/coffee-fellowship-3/2027-07-11
LOCATION:The First Presbyterian Church\, 12 West 12th Street\, New York\, NY\, 10011
CATEGORIES:Fellowship
END:VEVENT
BEGIN:VEVENT
DTSTART;TZID=America/New_York:20270711T140000
DTEND;TZID=America/New_York:20270711T180000
DTSTAMP:20260421T105057
CREATED:20220329T174238Z
LAST-MODIFIED:20220329T174238Z
UID:23357-1815314400-1815328800@fpcnyc.org
SUMMARY:BEE Church
DESCRIPTION:
URL:https://fpcnyc.org/event/bee-church-2/2027-07-11
CATEGORIES:Connect
END:VEVENT
BEGIN:VEVENT
DTSTART;TZID=America/New_York:20270713T191500
DTEND;TZID=America/New_York:20270713T213000
DTSTAMP:20260421T105057
CREATED:20220317T223232Z
LAST-MODIFIED:20220317T223232Z
UID:23358-1815506100-1815514200@fpcnyc.org
SUMMARY:Save Her A Seat
DESCRIPTION:
URL:https://fpcnyc.org/event/save-her-a-seat-2/2027-07-13
CATEGORIES:Care
END:VEVENT
BEGIN:VEVENT
DTSTART;TZID=America/New_York:20270716T180000
DTEND;TZID=America/New_York:20270716T210000
DTSTAMP:20260421T105057
CREATED:20220420T173501Z
LAST-MODIFIED:20220420T173501Z
UID:23359-1815760800-1815771600@fpcnyc.org
SUMMARY:D. A. Group
DESCRIPTION:
URL:https://fpcnyc.org/event/d-a-group-3/2027-07-16
CATEGORIES:Care
END:VEVENT
BEGIN:VEVENT
DTSTART;TZID=America/New_York:20270716T183000
DTEND;TZID=America/New_York:20270716T200000
DTSTAMP:20260421T105057
CREATED:20220317T221223Z
LAST-MODIFIED:20220317T221223Z
UID:23360-1815762600-1815768000@fpcnyc.org
SUMMARY:Save Her a Seat
DESCRIPTION:Save Her a Seat (SHAS) is a beginners meeting\, with the focus on people who identify as women with less than 5 years of sobriety. We are trans friendly. Each Friday is a different meeting format: \n1st Friday: Speaker\n2nd Friday: Step\n3rd Friday: Speaker\nLast Friday: Anniversary\n(With months with 5 Fridays\, the 4th Friday is a Speaker meeting)
URL:https://fpcnyc.org/event/save-her-a-seat/2027-07-16
CATEGORIES:Connect
END:VEVENT
BEGIN:VEVENT
DTSTART;TZID=America/New_York:20270717T100000
DTEND;TZID=America/New_York:20270717T150000
DTSTAMP:20260421T105057
CREATED:20250729T155156Z
LAST-MODIFIED:20250729T155156Z
UID:23639-1815818400-1815836400@fpcnyc.org
SUMMARY:St. Joe's Soup Kitchen
DESCRIPTION:Serving Hours are from 1:00pm – 3:00pm
URL:https://fpcnyc.org/event/st-joes-soup-kitchen-7/2027-07-17
CATEGORIES:Care
END:VEVENT
BEGIN:VEVENT
DTSTART;TZID=America/New_York:20270718T093000
DTEND;TZID=America/New_York:20270718T130000
DTSTAMP:20260421T105057
CREATED:20250729T180656Z
LAST-MODIFIED:20250729T180656Z
UID:24019-1815903000-1815915600@fpcnyc.org
SUMMARY:Child Care
DESCRIPTION:
URL:https://fpcnyc.org/event/child-care-5/2027-07-18
END:VEVENT
BEGIN:VEVENT
DTSTART;TZID=America/New_York:20270718T110000
DTEND;TZID=America/New_York:20270718T120000
DTSTAMP:20260421T105057
CREATED:20250729T173151Z
LAST-MODIFIED:20250729T173151Z
UID:23802-1815908400-1815912000@fpcnyc.org
SUMMARY:Worship Service
DESCRIPTION:
URL:https://fpcnyc.org/event/worship-service/2027-07-18
CATEGORIES:Worship
END:VEVENT
BEGIN:VEVENT
DTSTART;TZID=America/New_York:20270718T120000
DTEND;TZID=America/New_York:20270718T123000
DTSTAMP:20260421T105057
CREATED:20210914T200129Z
LAST-MODIFIED:20210914T200129Z
UID:23365-1815912000-1815913800@fpcnyc.org
SUMMARY:Coffee & Fellowship
DESCRIPTION:|Recurring Event (See all)\n\n\n\nJoin us for coffee fellowship every Sunday directly following the worship service!  Join us as we meet one another\, say hello to some new faces\, and gather for a time of fellowship as we learn more about each other and how our week has been! \nFor the Zoom link\, visit our First Matters Weekly Newsletter or email Audrey Webber at awebber@fpcnyc.org for the link and any questions you might have! \nWe cannot wait to see you on the lawn after worship. \nOnline Coffee Fellowship – after worship \nJoin at this link Meeting ID: 894 6680 8515 Passcode: 761035 \n 
URL:https://fpcnyc.org/event/coffee-fellowship-3/2027-07-18
LOCATION:The First Presbyterian Church\, 12 West 12th Street\, New York\, NY\, 10011
CATEGORIES:Fellowship
END:VEVENT
END:VCALENDAR