BEGIN:VCALENDAR
VERSION:2.0
PRODID:-//The First Presbyterian Church in the City of New York - ECPv6.15.20//NONSGML v1.0//EN
CALSCALE:GREGORIAN
METHOD:PUBLISH
X-WR-CALNAME:The First Presbyterian Church in the City of New York
X-ORIGINAL-URL:https://fpcnyc.org
X-WR-CALDESC:Events for The First Presbyterian Church in the City of New York
REFRESH-INTERVAL;VALUE=DURATION:PT1H
X-Robots-Tag:noindex
X-PUBLISHED-TTL:PT1H
BEGIN:VTIMEZONE
TZID:UTC
BEGIN:STANDARD
TZOFFSETFROM:+0000
TZOFFSETTO:+0000
TZNAME:UTC
DTSTART:20200101T000000
END:STANDARD
END:VTIMEZONE
BEGIN:VEVENT
DTSTART;VALUE=DATE:20210101
DTEND;VALUE=DATE:20210102
DTSTAMP:20260419T104724
CREATED:20201216T024613Z
LAST-MODIFIED:20201216T024613Z
UID:11555-1609459200-1609545599@fpcnyc.org
SUMMARY:New Year's Day
DESCRIPTION:
URL:https://fpcnyc.org/event/new-years-day
CATEGORIES:General Event
ATTACH;FMTTYPE=image/jpeg:https://fpcnyc.org/wp-content/uploads/2020/11/christening-1499314_960_720.jpg
END:VEVENT
END:VCALENDAR