BEGIN:VCALENDAR
VERSION:2.0
PRODID:-//The First Presbyterian Church in the City of New York - ECPv6.15.20//NONSGML v1.0//EN
CALSCALE:GREGORIAN
METHOD:PUBLISH
X-ORIGINAL-URL:https://fpcnyc.org
X-WR-CALDESC:Events for The First Presbyterian Church in the City of New York
REFRESH-INTERVAL;VALUE=DURATION:PT1H
X-Robots-Tag:noindex
X-PUBLISHED-TTL:PT1H
BEGIN:VTIMEZONE
TZID:UTC
BEGIN:STANDARD
TZOFFSETFROM:+0000
TZOFFSETTO:+0000
TZNAME:UTC
DTSTART:20190101T000000
END:STANDARD
END:VTIMEZONE
BEGIN:VEVENT
DTSTART;TZID=UTC:20220104T110000
DTEND;TZID=UTC:20220104T120000
DTSTAMP:20260422T195754
CREATED:20211231T025416Z
LAST-MODIFIED:20220103T211322Z
UID:14411-1641294000-1641297600@fpcnyc.org
SUMMARY:Nnena P. Nkongho
DESCRIPTION:NNENA P. NKONGHO \nHonoring:  January 4th 2022\, 11 AM EST \nLocation:   The First Presbyterian Church in the City of New York (Family Only) \nClick here for the bulletin for the service. \nVirtual Live Stream:  https://www.youtube.com/channel/UC5iFvHMvYBxWmdCammJkqfQ \nCharitable Donations:  https://www.gofundme.com/f/Remembering-nnena-p-nkongho \nTribute Messages:  https://www.forevermissed.com/nnena-p-nkongho/about
URL:https://fpcnyc.org/event/nnena-p-nkongho-memorial-service
LOCATION:YouTube Live Stream
CATEGORIES:Care
ATTACH;FMTTYPE=image/jpeg:https://fpcnyc.org/wp-content/uploads/2021/11/P1250095.jpg
END:VEVENT
BEGIN:VEVENT
DTSTART;TZID=UTC:20210224T120000
DTEND;TZID=UTC:20210224T122000
DTSTAMP:20260422T195754
CREATED:20201212T025224Z
LAST-MODIFIED:20210212T205208Z
UID:11343-1614168000-1614169200@fpcnyc.org
SUMMARY:Lenten Midweek Music and Prayer
DESCRIPTION:Join us for music and prayer as we mark our Lenten journey together.  You can watch via YouTube\, Facebook\, or Boxcast.
URL:https://fpcnyc.org/event/lenten-midweek-worship/2021-02-24
LOCATION:YouTube Live Stream
CATEGORIES:Worship
ATTACH;FMTTYPE=image/jpeg:https://fpcnyc.org/wp-content/uploads/2020/12/20201116-_DSC0548.jpg
END:VEVENT
BEGIN:VEVENT
DTSTART;TZID=UTC:20210131T120000
DTEND;TZID=UTC:20210131T140000
DTSTAMP:20260422T195754
CREATED:20201209T211225Z
LAST-MODIFIED:20201209T211225Z
UID:10987-1612094400-1612101600@fpcnyc.org
SUMMARY:Annual Congregational Meeting
DESCRIPTION:
URL:https://fpcnyc.org/event/annual-congregational-meeting
LOCATION:YouTube Live Stream
CATEGORIES:General Event
END:VEVENT
BEGIN:VEVENT
DTSTART;TZID=UTC:20201224T170000
DTEND;TZID=UTC:20201224T180000
DTSTAMP:20260422T195754
CREATED:20201216T024108Z
LAST-MODIFIED:20201216T024108Z
UID:11548-1608829200-1608832800@fpcnyc.org
SUMMARY:Christmas Eve Service
DESCRIPTION:Join us for our online Christmas Eve service on December 24th at 5:00 p.m.!  We are excited to celebrate this sacred day together as a community.  Join us on YouTube\, Facebook\, or BoxCast to watch the service.
URL:https://fpcnyc.org/event/christmas-eve-service-2
LOCATION:YouTube Live Stream
CATEGORIES:Worship
ATTACH;FMTTYPE=image/png:https://fpcnyc.org/wp-content/uploads/2020/12/Christmas-Eve-December-24th.png
END:VEVENT
BEGIN:VEVENT
DTSTART;TZID=UTC:20201017T230000
DTEND;TZID=UTC:20201017T230000
DTSTAMP:20260422T195754
CREATED:20201014T202029Z
LAST-MODIFIED:20201014T225414Z
UID:131-1602975600-1602975600@fpcnyc.org
SUMMARY:Weekly Worship 10/17/2020
DESCRIPTION:Etiam pretium leo est. Interdum et malesuada fames ac ante ipsum primis in faucibus. Proin sapien orci\, ultricies eu ante eu\, tincidunt iaculis dolor. Aliquam erat volutpat. Phasellus tempus tincidunt ex vel faucibus. sit amet\, consectetur adipiscing elit. Ut elit tellus\, luctus nec ullamcorper mattis\, pulvinar dapibus leo. \nView Online Worship on Our Youtube Chanel \nDownload Service Bulletin \nDownload Hymn Leaflet
URL:https://fpcnyc.org/event/weekly-worship-10-14-2020
LOCATION:YouTube Live Stream
CATEGORIES:Worship
ATTACH;FMTTYPE=image/jpeg:https://fpcnyc.org/wp-content/uploads/2020/10/FirstPresInt1.jpg
END:VEVENT
END:VCALENDAR